BEGIN:VCALENDAR
VERSION:2.0
PRODID:-//Alabama State Bar - ECPv6.15.20//NONSGML v1.0//EN
CALSCALE:GREGORIAN
METHOD:PUBLISH
X-WR-CALNAME:Alabama State Bar
X-ORIGINAL-URL:https://alabar.lbcdev.com
X-WR-CALDESC:Events for Alabama State Bar
REFRESH-INTERVAL;VALUE=DURATION:PT1H
X-Robots-Tag:noindex
X-PUBLISHED-TTL:PT1H
BEGIN:VTIMEZONE
TZID:America/Chicago
BEGIN:DAYLIGHT
TZOFFSETFROM:-0600
TZOFFSETTO:-0500
TZNAME:CDT
DTSTART:20200308T080000
END:DAYLIGHT
BEGIN:STANDARD
TZOFFSETFROM:-0500
TZOFFSETTO:-0600
TZNAME:CST
DTSTART:20201101T070000
END:STANDARD
BEGIN:DAYLIGHT
TZOFFSETFROM:-0600
TZOFFSETTO:-0500
TZNAME:CDT
DTSTART:20210314T080000
END:DAYLIGHT
BEGIN:STANDARD
TZOFFSETFROM:-0500
TZOFFSETTO:-0600
TZNAME:CST
DTSTART:20211107T070000
END:STANDARD
BEGIN:DAYLIGHT
TZOFFSETFROM:-0600
TZOFFSETTO:-0500
TZNAME:CDT
DTSTART:20220313T080000
END:DAYLIGHT
BEGIN:STANDARD
TZOFFSETFROM:-0500
TZOFFSETTO:-0600
TZNAME:CST
DTSTART:20221106T070000
END:STANDARD
BEGIN:DAYLIGHT
TZOFFSETFROM:-0600
TZOFFSETTO:-0500
TZNAME:CDT
DTSTART:20230312T080000
END:DAYLIGHT
BEGIN:STANDARD
TZOFFSETFROM:-0500
TZOFFSETTO:-0600
TZNAME:CST
DTSTART:20231105T070000
END:STANDARD
BEGIN:DAYLIGHT
TZOFFSETFROM:-0600
TZOFFSETTO:-0500
TZNAME:CDT
DTSTART:20240310T080000
END:DAYLIGHT
BEGIN:STANDARD
TZOFFSETFROM:-0500
TZOFFSETTO:-0600
TZNAME:CST
DTSTART:20241103T070000
END:STANDARD
END:VTIMEZONE
BEGIN:VEVENT
DTSTART;TZID=America/Chicago:20230501T080000
DTEND;TZID=America/Chicago:20230501T170000
DTSTAMP:20260422T011751
CREATED:20230330T214227Z
LAST-MODIFIED:20230330T214227Z
UID:65398-1682928000-1682960400@alabar.lbcdev.com
SUMMARY:Law Day
DESCRIPTION:
URL:https://alabar.lbcdev.com/event/law-day/
CATEGORIES:Home
END:VEVENT
BEGIN:VEVENT
DTSTART;TZID=America/Chicago:20230419T120000
DTEND;TZID=America/Chicago:20230419T130000
DTSTAMP:20260422T011751
CREATED:20230330T214154Z
LAST-MODIFIED:20230330T214154Z
UID:65395-1681905600-1681909200@alabar.lbcdev.com
SUMMARY:CLE: Practicing Law Should Not Kill You
DESCRIPTION:Register here.\nLawyers are near the top of some bad categories when it comes to all professions. We are near the top in substance abuse\, suicide depression\, anxiety\, divorce\, and burnout. Those are just the boxes that I check. Lawyers rate very poorly when it comes to job satisfaction as well. \nYou may be wondering what that looks like. You’re looking at Exhibit 1. I crossed the line into alcoholism by my estimate in 1992. It’s a progressive disease. It will only get worse\, never better. I was diagnosed with depression in 2001. It wasn’t the deep\, dark kind\, but it affects my life none the less. I first went I to AA in 2002. I wasn’t ready. I didn’t listen and follow through.  Things progressed badly. On my sobriety\, I was within seconds of suicide. I finally asked for help. I contacted ALAP and asked for help. I went to long-term treatment and got well. \nIt’s 2023. Thank goodness there’s a lot less stigma attached to mental illness. Help is a lot closer than you think. I promise you’re not bothering anyone. You can reach out to friends\, colleagues\, judges\, and even opposing counsel. You can call ALAP. Jeanne Marie\, who was the Director in 2004 saved my life. You can call me. I will talk to anyone\, anywhere\, anytime about any of this. \nDo you want to get better? Ask for help. If you are an alcoholic or addict\, AA or NA are available almost everywhere. If your spouse is one\, then there’s ALANON. Discuss your issues with your PCP. Exercise\, meditate\, or join other support groups. \nThere is hope for everyone. \n 
URL:https://alabar.lbcdev.com/event/cle-practicing-law-should-not-kill-you/
LOCATION:Virtual through Zoom
CATEGORIES:Home
END:VEVENT
BEGIN:VEVENT
DTSTART;TZID=America/Chicago:20230406T080000
DTEND;TZID=America/Chicago:20230406T170000
DTSTAMP:20260422T011751
CREATED:20230330T214031Z
LAST-MODIFIED:20230330T214031Z
UID:65389-1680768000-1680800400@alabar.lbcdev.com
SUMMARY:Jones School of Law Annual CLE Round-Up
DESCRIPTION:Register here: https://tinyurl.com/mrcjcaff \n \n 
URL:https://alabar.lbcdev.com/event/jones-school-of-law-annual-cle-round-up/
LOCATION:Faulkner University Jones School of Law (Room 180)
CATEGORIES:Home
END:VEVENT
BEGIN:VEVENT
DTSTART;TZID=America/Chicago:20230314T110000
DTEND;TZID=America/Chicago:20230314T120000
DTSTAMP:20260422T011751
CREATED:20230112T223406Z
LAST-MODIFIED:20230112T223406Z
UID:65054-1678791600-1678795200@alabar.lbcdev.com
SUMMARY:CLE: Microsoft Office Tips for Lawyers
DESCRIPTION:
URL:https://alabar.lbcdev.com/event/cle-microsoft-office-tips-for-lawyers/
CATEGORIES:CLE,Home
END:VEVENT
BEGIN:VEVENT
DTSTART;TZID=America/Chicago:20230221T080000
DTEND;TZID=America/Chicago:20230222T170000
DTSTAMP:20260422T011751
CREATED:20230112T223654Z
LAST-MODIFIED:20230112T223654Z
UID:65057-1676966400-1677085200@alabar.lbcdev.com
SUMMARY:February Bar Exam
DESCRIPTION:
URL:https://alabar.lbcdev.com/event/february-bar-exam-2/
CATEGORIES:Home
END:VEVENT
BEGIN:VEVENT
DTSTART;TZID=America/Chicago:20230208T120000
DTEND;TZID=America/Chicago:20230208T130000
DTSTAMP:20260422T011751
CREATED:20230112T222937Z
LAST-MODIFIED:20230112T222937Z
UID:65049-1675857600-1675861200@alabar.lbcdev.com
SUMMARY:CLE: Coping with Illness and the Practice of Law
DESCRIPTION:Attorneys Erika Tatum and Sherrie Phillips will present this health and wellness CLE on ways to cope with your own illness or the illness of loved ones while engaging in the practice of law. They will provide tips on finding a balance between work and health\, how to disclose a diagnosis\, preparing for sick days\, and engaging in self-care. \nRegister here: t.ly/Bd3C
URL:https://alabar.lbcdev.com/event/cle-coping-with-illness-and-the-practice-of-law/
LOCATION:Zoom
CATEGORIES:CLE,Home
ATTACH;FMTTYPE=:
END:VEVENT
BEGIN:VEVENT
DTSTART;TZID=America/Chicago:20230118T080000
DTEND;TZID=America/Chicago:20230120T170000
DTSTAMP:20260422T011751
CREATED:20220831T135223Z
LAST-MODIFIED:20220831T135223Z
UID:64273-1674028800-1674234000@alabar.lbcdev.com
SUMMARY:Mid-Year Meeting
DESCRIPTION:Join the Alabama State Bar for its Mid-Year Meeting January 18-20\, 2023\, at The Battle House Hotel in Mobile\, Alabama.  The Alabama Circuit and District Court Judges will be right down the street at The Riverview Hotel.  The Mobile and Baldwin County Bar Associations have planned two joint receptions for our members and the judges during the meeting.\n\n\n\nThe registration cost will be $250.00 for all members which is an all-inclusive rate.  There will be no additional costs for luncheons and receptions for our attendees. Guest tickets are available for purchase. The link to register for the Mid-Year Meeting is below.  Once you have registered\, you will receive an email confirmation with the hotel reservation link.\nIf you have any issues with registering or have questions regarding the Mid-Year Meeting\, please email or call Robyn Bernier at 334-517-2204 or robyn.bernier@alabar.org  We look forward to a fantastic Mid-Year Meeting!\n\nClick here to register and view the agenda.
URL:https://alabar.lbcdev.com/event/mid-year-meeting/
LOCATION:The Battle House Renaissance Mobile Hotel and Spa\, 26 N Royal Street\, Mobile\, AL\, 36602\, United States
CATEGORIES:Home
END:VEVENT
BEGIN:VEVENT
DTSTART;TZID=America/Chicago:20221101T110000
DTEND;TZID=America/Chicago:20221101T120000
DTSTAMP:20260422T011751
CREATED:20220913T133037Z
LAST-MODIFIED:20220913T133037Z
UID:64318-1667300400-1667304000@alabar.lbcdev.com
SUMMARY:Free Zoom CLE
DESCRIPTION:Free Zoom CLE – Optimizing Technology in a Solo or Small Law Firm in the New Normal: Affordable Software Solutions that Support a Hybrid Workplace \nNov. 1\, 2022 at 11 a.m. | Register here \nThe coronavirus pandemic represented a thunderous upheaval for solo lawyers and small law firms. Even attorneys who were firmly entrenched in on-premises solutions began to adopt the cloud and to move away from analog solutions in favor of digital tools. \nIn this program\, a unique panel of experts will walk you through the tools and strategies you need to create a law firm built for the world of hybrid work.
URL:https://alabar.lbcdev.com/event/free-zoom-cle/
LOCATION:Zoom
CATEGORIES:Home
END:VEVENT
BEGIN:VEVENT
DTSTART;TZID=America/Chicago:20221026T120000
DTEND;TZID=America/Chicago:20221026T130000
DTSTAMP:20260422T011751
CREATED:20220916T140943Z
LAST-MODIFIED:20220916T140943Z
UID:64362-1666785600-1666789200@alabar.lbcdev.com
SUMMARY:Creating A Better Balance: Advancing Equity in the Workplace through the Law CLE
DESCRIPTION:Presenter: Kameron Dawson\, Senior Staff Attorney at A Better Balance \nRegister here.  \nThis course has been approved by the ASB for 60 minutes of MCLE credit.
URL:https://alabar.lbcdev.com/event/creating-a-better-balance-advancing-equity-in-the-workplace-through-the-law-cle/
LOCATION:Zoom
CATEGORIES:Home,Pro Bono Month
END:VEVENT
BEGIN:VEVENT
DTSTART;TZID=America/Chicago:20221019T120000
DTEND;TZID=America/Chicago:20221019T130000
DTSTAMP:20260422T011751
CREATED:20220916T140804Z
LAST-MODIFIED:20220916T140804Z
UID:64360-1666180800-1666184400@alabar.lbcdev.com
SUMMARY:Appellate Mediation: How to Get the Best Experience for You and Your Client CLE
DESCRIPTION:Moderator: Claire Veal\, Esq. \nPanelists: Sam Irby\, Esq.\nSally Bowers\, Esq.\nCharles Denaburg\, Esq.\nJimmy Walter\, Esq.\nMichelle Ohme\, Supreme Court Appellate Mediation Office \nRegister here. \nSponsors:  Montgomery County Bar Association and the Alabama Center for Dispute Resolution \nThis course has been approved by the ASB for 60 minutes of MCLE credit.
URL:https://alabar.lbcdev.com/event/appellate-mediation-how-to-get-the-best-experience-for-you-and-your-client-cle/
LOCATION:Zoom
CATEGORIES:Home,Pro Bono Month
END:VEVENT
BEGIN:VEVENT
DTSTART;TZID=America/Chicago:20221014T140000
DTEND;TZID=America/Chicago:20221014T170000
DTSTAMP:20260422T011751
CREATED:20221003T192917Z
LAST-MODIFIED:20221003T192917Z
UID:64518-1665756000-1665766800@alabar.lbcdev.com
SUMMARY:Legal Symposium
DESCRIPTION:Two Days of Events Honor Career of U.S. Supreme Court Justice Hugo Black \n(Birmingham\, AL)        U.S. District Judge Myron H. Thompson of Montgomery and Yale Law School’s Sterling Professor of Law Akhil Reed Amar will keynote the dedication of the Hugo Black Monument and Park in Ashland\, Alabama on October 15\, 2022 . \nThe dedication caps two days of events in Birmingham and Ashland celebrating the career of U.S. Supreme Court Justice Hugo Black\, one of the nation’s foremost champions of free speech and the constitutional rights of the weak\, helpless and outnumbered. \nOn Friday\, October 14\, a symposium on Justice Black will be held in Birmingham at the Cumberland School of Law on the campus of Samford University beginning at 2:00 PM. Panelists include scholars and leading figures in law\, civil rights and media: retired U.S. Judge U.W. Clemon\, former U.S. Senator Doug Jones\, retired U.S. Magistrate Vanzetta McPherson\, former New York Times Executive Editor Howell Raines\, former Alabama Chief Justice Drayton Nabers\, who clerked for Justice Black\, Lynda K. Walker\, CEO of the Tax Council Policy Institute\, Professor Bryan Fair of the University of Alabama School of Law\, Professor John Carroll of Cumberland School of Law and Steve Suitts\, author of Hugo Black of Alabama. \nFollowing the Friday seminar in Birmingham\, “Amarica’s Constitution with Akhil Amar”\,  one of the nation’s top podcasts on Constitutional law will be taped with the seminar audience at Cumberland.  Professor Akhil Reed Amar\, Sterling Professor of Law and Political Science at Yale University and one of the nation’s leading authorities on the Constitution\, will be joined by co-host Andy Lipka. They will lead the audience in a discussion of “Hugo Black’s Originalism and Today’s Originalist Justices.”  Their podcast offers weekly in-depth discussions on the most urgent and fascinating constitutional issues of the day. \nThe dedication events move to Justice Black’s hometown of Ashland\, Alabama Saturday\, October 15th. At 11:00 AM\, inside the Hugo Black Courtroom of the Clay County Courthouse\, a portrait of Justice Black by Semmie Knox\, the first black artist to paint an official presidential portrait\, will be officially unveiled with members of the Black family present. At 2:00 PM\, U.S. District Judge Myron Thompson and Professor Amar will keynote the dedication. \nHosted by the Hugo Black Fund\, a tax-exempt charity\, the dedication is an occasion for citizens to join together in recognizing Justice Black’s contributions to Alabama and the nation. The Monument and Park in Ashland\, Alabama are located on the site of the old family homeplace where Justice Black grew up and came of age until he moved to Birmingham in 1906. They are within sight of the historic Clay County Courthouse\, where atop its cupola Lady Justice holds her scales. \nAll events are free of charge and the public is invited to attend. \nAdditional information is available on the website of the Hugo Black Digital Library.
URL:https://alabar.lbcdev.com/event/legal-symposium/
LOCATION:Cumberland School of Law (Great Room)\, 800 Lakeshore Drive\, Birmingham\, AL\, United States
END:VEVENT
BEGIN:VEVENT
DTSTART;TZID=America/Chicago:20221012T120000
DTEND;TZID=America/Chicago:20221012T130000
DTSTAMP:20260422T011751
CREATED:20220916T140534Z
LAST-MODIFIED:20220916T140534Z
UID:64357-1665576000-1665579600@alabar.lbcdev.com
SUMMARY:10 Ethics Pitfalls CLE
DESCRIPTION:Presenter: Cooper Shattuck \nRegister here. \nThis course has been approved by the ASB for 60 minutes of MCLE credit.
URL:https://alabar.lbcdev.com/event/10-ethics-pitfalls-cle/
LOCATION:Zoom
CATEGORIES:Home,Pro Bono Month
END:VEVENT
BEGIN:VEVENT
DTSTART;TZID=America/Chicago:20221005T120000
DTEND;TZID=America/Chicago:20221005T130000
DTSTAMP:20260422T011751
CREATED:20220916T140355Z
LAST-MODIFIED:20220916T140355Z
UID:64355-1664971200-1664974800@alabar.lbcdev.com
SUMMARY:Wills and Estates CLE
DESCRIPTION:Presenter: Joel Dorroh\, Esq. with Dorroh & Mills\,  PC \nRegister here. \nThis course has been approved by the ASB for 60 minutes of MCLE credit.
URL:https://alabar.lbcdev.com/event/wills-and-estates-cle/
LOCATION:Zoom
CATEGORIES:Home,Pro Bono Month
END:VEVENT
BEGIN:VEVENT
DTSTART;TZID=America/Chicago:20221004T120000
DTEND;TZID=America/Chicago:20221004T130000
DTSTAMP:20260422T011751
CREATED:20220930T162838Z
LAST-MODIFIED:20220930T162838Z
UID:64463-1664884800-1664888400@alabar.lbcdev.com
SUMMARY:Pro Bono Month Book Club Meeting 1
DESCRIPTION:Join us to discuss Evicted by Matthew Desmond. This week we will dive into the Prologue – Chapter 6. \nAdd the meeting to your calendar here.  \nReview the reading questions below. \n1. Have you ever been evicted or do you know anyone who has? Do you\nrepresent clients in eviction actions? If not\, do the clients you represent for\nother issues also struggle with eviction or housing? If the answer is yes\,\nwhat was your/their experience like\, and how has it affected your/their life?\n2. What was your experience reading Evicted? Were you surprised by\nwhat you learned? Was any particular scene or character’s story\nemotionally painful for you to witness? Did the stories of the characters in\nthe book reflect the stories you have heard from your own clients? If not\,\nhow were they different.\n3. Many people have very codified perceptions of “people who get evicted”\nand suspect that those people are largely responsible—through bad\ndecision making—for their circumstances. Did you feel this way before\nreading Evicted? Why or why not? Did your opinions change after reading\nthe book? If so\, how? Do your own pro bono clients face these same\njudgments about being at fault for their own evictions\, other legal issues\,\nor overall financial circumstances? Do you feel that these perceptions\naffect the number of attorneys providing services pro bono to low-income\nclients?\n4. Do you think housing should be a right in America?
URL:https://alabar.lbcdev.com/event/pro-bono-month-book-club-meeting-1/
LOCATION:Zoom
CATEGORIES:Pro Bono Month
END:VEVENT
BEGIN:VEVENT
DTSTART;TZID=America/Chicago:20221003T093000
DTEND;TZID=America/Chicago:20221003T170000
DTSTAMP:20260422T011751
CREATED:20220927T195643Z
LAST-MODIFIED:20220927T195643Z
UID:64427-1664789400-1664816400@alabar.lbcdev.com
SUMMARY:2022 Red Mass
DESCRIPTION:St. Peter Catholic Church will host the annual Red Mass prior to the opening of the Alabama Supreme Court 2022-2023 term. You are invited to join with people of all faiths to celebrate the centuries-old tradition that reflects upon the responsibility of individuals in the legal profession to seek justice both in our courts and in our society.
URL:https://alabar.lbcdev.com/event/2022-red-mass/
LOCATION:St. Peter Catholic Church\, 219 Adams Ave\, Montgomery\, AL\, United States
CATEGORIES:Home
END:VEVENT
BEGIN:VEVENT
DTSTART;TZID=America/Chicago:20220930T170000
DTEND;TZID=America/Chicago:20220930T170000
DTSTAMP:20260422T011751
CREATED:20220913T132434Z
LAST-MODIFIED:20220913T132434Z
UID:64312-1664557200-1664557200@alabar.lbcdev.com
SUMMARY:Leadership Forum Application Deadline
DESCRIPTION:Apply for Leadership Forum Class 17 here: https://alabamastatebar.wufoo.com/forms/mbyhf8911am72a/
URL:https://alabar.lbcdev.com/event/leadership-forum-application-deadline/
CATEGORIES:Home
END:VEVENT
BEGIN:VEVENT
DTSTART;TZID=America/Chicago:20220929T180000
DTEND;TZID=America/Chicago:20220929T193000
DTSTAMP:20260422T011751
CREATED:20220822T193737Z
LAST-MODIFIED:20220822T193737Z
UID:64212-1664474400-1664479800@alabar.lbcdev.com
SUMMARY:17th Judicial Circuit
DESCRIPTION:
URL:https://alabar.lbcdev.com/event/17th-judicial-circuit/
LOCATION:Foscue House Restaurant\, 21333 US Highway 80 W\, Demopolis\, AL\, 36732\, United States
CATEGORIES:Drive for Five
END:VEVENT
BEGIN:VEVENT
DTSTART;TZID=America/Chicago:20220929T120000
DTEND;TZID=America/Chicago:20220929T130000
DTSTAMP:20260422T011751
CREATED:20220822T193605Z
LAST-MODIFIED:20220822T193605Z
UID:64209-1664452800-1664456400@alabar.lbcdev.com
SUMMARY:1st Judicial Circuit Drive for Five
DESCRIPTION:
URL:https://alabar.lbcdev.com/event/1st-judicial-circuit-drive-for-five/
LOCATION:Ezell’s Fish Camp\, 776 Ezell Road\, Lavaca\, AL\, 36904\, United States
CATEGORIES:Drive for Five
END:VEVENT
BEGIN:VEVENT
DTSTART;TZID=America/Chicago:20220928T140000
DTEND;TZID=America/Chicago:20220928T150000
DTSTAMP:20260422T011751
CREATED:20220829T180157Z
LAST-MODIFIED:20220829T180157Z
UID:64248-1664373600-1664377200@alabar.lbcdev.com
SUMMARY:24th Judicial Circuit Drive for Five
DESCRIPTION:
URL:https://alabar.lbcdev.com/event/24th-judicial-circuit-drive-for-five/
LOCATION:Fayette County Courthouse\, 113 Temple Avenue North\, Fayette
CATEGORIES:Drive for Five
END:VEVENT
BEGIN:VEVENT
DTSTART;TZID=America/Chicago:20220928T120000
DTEND;TZID=America/Chicago:20220928T130000
DTSTAMP:20260422T011751
CREATED:20220822T193108Z
LAST-MODIFIED:20220822T193108Z
UID:64206-1664366400-1664370000@alabar.lbcdev.com
SUMMARY:14th Judicial Circuit Drive for Five
DESCRIPTION:
URL:https://alabar.lbcdev.com/event/14th-judicial-circuit-drive-for-five/
LOCATION:Los Reyes Grill\, 1841 2nd Ave.\, Jasper\, AL\, 35501\, United States
CATEGORIES:Drive for Five
END:VEVENT
BEGIN:VEVENT
DTSTART;TZID=America/Chicago:20220926T120000
DTEND;TZID=America/Chicago:20220926T130000
DTSTAMP:20260422T011751
CREATED:20220829T180053Z
LAST-MODIFIED:20220829T180053Z
UID:64245-1664193600-1664197200@alabar.lbcdev.com
SUMMARY:29th Judicial Circuit Drive for Five
DESCRIPTION:
URL:https://alabar.lbcdev.com/event/29th-judicial-circuit-drive-for-five/
LOCATION:Citizens Baptist Hospital Cafeteria\, 604 Stone Avenue\, Talladega
CATEGORIES:Drive for Five
END:VEVENT
BEGIN:VEVENT
DTSTART;TZID=America/Chicago:20220922T100000
DTEND;TZID=America/Chicago:20220922T163000
DTSTAMP:20260422T011751
CREATED:20220913T132827Z
LAST-MODIFIED:20220913T132827Z
UID:64314-1663840800-1663864200@alabar.lbcdev.com
SUMMARY:Bankruptcy CLE
DESCRIPTION:The Alabama Bankruptcy Assistance Project is offering a free bankruptcy CLE on Thursday\, September 22\, 2022. \n5 MCLE Credits including 1 Hour of Ethics \nLunch Provided \nRegister here.
URL:https://alabar.lbcdev.com/event/bankruptcy-cle/
LOCATION:Madison Public Library\, 142 Plaza Blvd\, Madison\, AL\, 35758\, United States
CATEGORIES:Home
END:VEVENT
BEGIN:VEVENT
DTSTART;TZID=America/Chicago:20220915T120000
DTEND;TZID=America/Chicago:20220915T130000
DTSTAMP:20260422T011751
CREATED:20220830T145748Z
LAST-MODIFIED:20220830T145748Z
UID:64264-1663243200-1663246800@alabar.lbcdev.com
SUMMARY:CLE: Position Statements: Tips for an Effective Mediation
DESCRIPTION:The Dispute Resolution Section of the Alabama State Bar is partnering with the Alabama Center for Dispute Resolution to present monthly ADR CLE events – for free. \nEach event will be held on the 3rd Thursday at noon (CST). \nJoin experienced attorney/mediators Thomas Corbett\, Allen Schreiber and Harold Stephens for the first of our twelve-part monthly series on “Improving Your Mediation Skills.” \nDate: September 15\, 2022 at noon \nCost: Free \nTitle:  Position Statements: Tips for an Effective Mediation \nDuring the webinar you’ll learn: \n\nThe purpose of the position statement\nTips for a more effective mediation statement\nHow to make the mediation position statement your roadmap to a successful settlement\n\nRegister in advance at https://us06web.zoom.us/meeting/register/tZYrd-6vpj8jGtA6dd_KAPfLQjPBfPqZIiKK \nAfter registering and being approved\, you will receive a confirmation email containing information about joining the meeting. \nThis course or a portion thereof has been approved by the Mandatory Continuing Legal Education Commission of Alabama for a maximum of one hours’ credit. \nPlease register by September 14\, 2022. \nFuture topics and dates are: \nOctober 20: Bracketology \nNovember 17: Confronting Biases \nDecember 15: Reframing \nJanuary 19: Overcoming Challenges with Zoom Mediations \nFebruary 16: Marketing Your Mediation Practice \nMarch 16: Dealing with Impasse \nApril 20: How to Deal with Difficult People in Mediations \nMay 18: Anchoring \nJune 15: Confidentiality and Other Ethical Concerns in Mediation \nJuly 20: Collaborative Practice of Law: the ABC’s \nAugust 17: How to Get the Best Experience out of Domestic Mediation \nWe hope these webinars will enhance your ADR skills!
URL:https://alabar.lbcdev.com/event/cle-position-statements-tips-for-an-effective-mediation/
LOCATION:Zoom
CATEGORIES:Home
END:VEVENT
BEGIN:VEVENT
DTSTART;VALUE=DATE:20211029
DTEND;VALUE=DATE:20211030
DTSTAMP:20260422T011751
CREATED:20211006T152029Z
LAST-MODIFIED:20211006T152029Z
UID:62248-1635465600-1635551999@alabar.lbcdev.com
SUMMARY:Montgomery Volunteer Lawyers Program 2021 Volunteer Awards & Luncheon
DESCRIPTION:The Montgomery Volunteer Lawyers Program hosts a recognition and awards ceremony for the wonderful attorneys in our program.
URL:https://alabar.lbcdev.com/event/montgomery-volunteer-lawyers-program-2021-volunteer-awards-luncheon/
LOCATION:Montgomery VLP\, 458 South Lawrence Street\, Montgomery\, AL\, 36104\, United States
CATEGORIES:Pro Bono Month
END:VEVENT
BEGIN:VEVENT
DTSTART;TZID=America/Chicago:20211026T120000
DTEND;TZID=America/Chicago:20211026T150000
DTSTAMP:20260422T011751
CREATED:20211006T152236Z
LAST-MODIFIED:20211006T152236Z
UID:62250-1635249600-1635260400@alabar.lbcdev.com
SUMMARY:Mercy House Clinic & Lunch Service
DESCRIPTION:Volunteer lawyers help serve lunch to the Washington Park community and answer questions about civil legal matters. \nContact jbrown@montgomeryvlp.org to register.
URL:https://alabar.lbcdev.com/event/mercy-house-clinic-lunch-service/
LOCATION:Mercy House\, 2421 Counsil Street\, Montgomery\, AL\, 36108\, United States
CATEGORIES:Pro Bono Month
END:VEVENT
BEGIN:VEVENT
DTSTART;TZID=America/Chicago:20211026T120000
DTEND;TZID=America/Chicago:20211026T124500
DTSTAMP:20260422T011751
CREATED:20211004T191403Z
LAST-MODIFIED:20211004T191403Z
UID:62158-1635249600-1635252300@alabar.lbcdev.com
SUMMARY:Pro Bono Month Book Club
DESCRIPTION:The Pro Bono Month Celebration Task Force is launching the inaugural Pro Bono Book Club. The book club discussions would take place via Zoom from 12:00 p.m. to 12:45 p.m. on Tuesdays in October. This year’s book selection is “A Knock at Midnight” by Brittany Barnett. It is a moving and fantastic read. Task Force members hope this kind of sharing will lead to an expanded dialogue among participants and even non-participants of the book club about pro bono services. \nTo join the book club discussion follow this Zoom link https://samford-edu.zoom.us/j/93744646276?pwd=Tm9TY20rNUUwQ1Q3ZHhoT2p3K0p3QT09
URL:https://alabar.lbcdev.com/event/pro-bono-month-book-club-4/
LOCATION:Zoom Meeting
CATEGORIES:Pro Bono Month
END:VEVENT
BEGIN:VEVENT
DTSTART;TZID=America/Chicago:20211026T100000
DTEND;TZID=America/Chicago:20211026T140000
DTSTAMP:20260422T011751
CREATED:20211006T150040Z
LAST-MODIFIED:20211006T150040Z
UID:62216-1635242400-1635256800@alabar.lbcdev.com
SUMMARY:ASB VLP Senior Wills Clinic
DESCRIPTION:Lawyers will provide seniors age 65 and older with a will\, power of attorney\, and advanced health care directive.
URL:https://alabar.lbcdev.com/event/asb-vlp-senior-wills-clinic/
LOCATION:Dr. Michael and Catherine Bullock Community and Recreational Center\, 1428 Broad Street\, Selma\, AL\, 36701\, United States
CATEGORIES:Pro Bono Month
ORGANIZER;CN="Alabama State Bar VLP":MAILTO:linda.lund@alabar.org
END:VEVENT
BEGIN:VEVENT
DTSTART;TZID=America/Chicago:20211022T130000
DTEND;TZID=America/Chicago:20211022T163000
DTSTAMP:20260422T011751
CREATED:20211019T155949Z
LAST-MODIFIED:20211019T155949Z
UID:62319-1634907600-1634920200@alabar.lbcdev.com
SUMMARY:Annual CLE
DESCRIPTION:Bankruptcy & Commercial Law Section of the Birmingham Bar Association Annual CLE Event.
URL:https://alabar.lbcdev.com/event/annual-cle/
LOCATION:Birmingham Bar Association\, 2021 2nd Ave N\, Birmingham\, AL\, 35203
CATEGORIES:Other
END:VEVENT
BEGIN:VEVENT
DTSTART;TZID=America/Chicago:20211022T120000
DTEND;TZID=America/Chicago:20211022T130000
DTSTAMP:20260422T011751
CREATED:20211006T145656Z
LAST-MODIFIED:20211006T145656Z
UID:62210-1634904000-1634907600@alabar.lbcdev.com
SUMMARY:Virtual Mediation Tips for Lawyers and Mediators
DESCRIPTION:The COVID pandemic has had a profound impact on virtually everyone\, and lawyers are no different. Mediation is just one of the areas in which our practices have been significantly affected. While some of the COVID consequences were temporary\, the ability to gather virtually or remotely is here to stay. Join experienced attorney/mediators Harold Stephens and Cooper Shattuck as they provide tips for lawyers and mediators on virtual mediations. \nWhen: Oct 22\, 2021 12:00 PM Central Time (US and Canada) \nRegister in advance for this free CLE event:\nhttps://us06web.zoom.us/meeting/register/tZAqdOurrzsjHdak0JzVcJ3qjIOigO8u0Qbj \nAfter registering\, you will receive a confirmation email containing information about joining the meeting. \nPlease register by October 19\, 2021. This course has been approved by the Alabama State Bar for 60 minutes of MCLE credit. \nThis program is being sponsored by the Dispute Resolution Section of the Mobile Bar Association\, the Alabama Center for Dispute Resolution\, and the Dispute Resolution Section of the Alabama State Bar. \nAbout our speakers \nHarold Stephens: Harold is a Partner with Bradley Arant Boult Cummings LLP. He has extensive experience in healthcare litigation in addition to business and commercial disputes. Harold earned his J.D. from the University of Alabama in 1980. He earned his B.A. from the University of Alabama in 1976 where he graduated summa cum laude. Harold has served as the Chair of the Alabama Supreme Court Commission on Dispute Resolution. He is a registered mediator with the Alabama Center for Dispute Resolution. \nCooper Shattuck: Cooper has over 27 years in virtually every facet of the practice of law. He uses his diverse practice experience to turn legal issues into opportunities in the areas of personal\, small business\, and nonprofit law; corporate general counsel; lawyer discipline; complex litigation; alternative dispute resolution; higher education; environmental law; and government relations and ethics. He operates Alabama Mediation Training where he prepares mediators for civil as well as domestic mediation practices. Cooper earned his J.D. from the University of Alabama in 1990. He earned his B.S. from the Georgia Institute of Technology. He currently serves on the Alabama Supreme Court Commission on Dispute Resolution and he is a registered mediator with the Alabama Center for Dispute Resolution.
URL:https://alabar.lbcdev.com/event/virtual-mediation-tips-for-lawyers-and-mediators/
LOCATION:Zoom Meeting
CATEGORIES:Pro Bono Month
END:VEVENT
BEGIN:VEVENT
DTSTART;TZID=America/Chicago:20211021T150000
DTEND;TZID=America/Chicago:20211021T170000
DTSTAMP:20260422T011751
CREATED:20211006T150635Z
LAST-MODIFIED:20211006T150635Z
UID:62225-1634828400-1634835600@alabar.lbcdev.com
SUMMARY:ASB VLP Counsel and Advice Clinic
DESCRIPTION:Lawyers will provide clients with counsel and advice on civil legal issues.
URL:https://alabar.lbcdev.com/event/asb-vlp-counsel-and-advice-clinic/
LOCATION:Tuscaloosa Public Library Main Branch\, 1801 Jack Warner Parkway NE\, Tuscaloosa\, AL\, 35401\, United States
CATEGORIES:Pro Bono Month
ORGANIZER;CN="Alabama State Bar VLP":MAILTO:linda.lund@alabar.org
END:VEVENT
END:VCALENDAR