BEGIN:VCALENDAR
VERSION:2.0
PRODID:-//Alabama State Bar - ECPv6.15.20//NONSGML v1.0//EN
CALSCALE:GREGORIAN
METHOD:PUBLISH
X-ORIGINAL-URL:https://alabar.lbcdev.com
X-WR-CALDESC:Events for Alabama State Bar
REFRESH-INTERVAL;VALUE=DURATION:PT1H
X-Robots-Tag:noindex
X-PUBLISHED-TTL:PT1H
BEGIN:VTIMEZONE
TZID:America/Chicago
BEGIN:DAYLIGHT
TZOFFSETFROM:-0600
TZOFFSETTO:-0500
TZNAME:CDT
DTSTART:20220313T080000
END:DAYLIGHT
BEGIN:STANDARD
TZOFFSETFROM:-0500
TZOFFSETTO:-0600
TZNAME:CST
DTSTART:20221106T070000
END:STANDARD
BEGIN:DAYLIGHT
TZOFFSETFROM:-0600
TZOFFSETTO:-0500
TZNAME:CDT
DTSTART:20230312T080000
END:DAYLIGHT
BEGIN:STANDARD
TZOFFSETFROM:-0500
TZOFFSETTO:-0600
TZNAME:CST
DTSTART:20231105T070000
END:STANDARD
BEGIN:DAYLIGHT
TZOFFSETFROM:-0600
TZOFFSETTO:-0500
TZNAME:CDT
DTSTART:20240310T080000
END:DAYLIGHT
BEGIN:STANDARD
TZOFFSETFROM:-0500
TZOFFSETTO:-0600
TZNAME:CST
DTSTART:20241103T070000
END:STANDARD
BEGIN:DAYLIGHT
TZOFFSETFROM:-0600
TZOFFSETTO:-0500
TZNAME:CDT
DTSTART:20250309T080000
END:DAYLIGHT
BEGIN:STANDARD
TZOFFSETFROM:-0500
TZOFFSETTO:-0600
TZNAME:CST
DTSTART:20251102T070000
END:STANDARD
END:VTIMEZONE
BEGIN:VEVENT
DTSTART;TZID=America/Chicago:20241205T100000
DTEND;TZID=America/Chicago:20241205T150000
DTSTAMP:20260421T204010
CREATED:20241025T211408Z
LAST-MODIFIED:20241025T211408Z
UID:67837-1733392800-1733410800@alabar.lbcdev.com
SUMMARY:Toolbox Tour - Tanner
DESCRIPTION:The Alabama State Bar will hit the road for the Toolbox Tour this Fall. The tour is designed to bring a mini-Annual Meeting to you! We’re hosting three 5-hour CLE events in Columbiana\, Dothan\, and Tanner. It’s a great way to get in your MCLE hours before years-end! This event is the final stop for 2024 – Tanner. \nEach event will feature CLEs on Ethics\, Criminal Law sentencing\, and valuable state bar member benefits. There will also be a bench and bar luncheon featuring local judges and a panel discussion on Harvesting Hope\, Alabama State Bar President Tom Perry’s platform to recruit and incentivize lawyers to practice in rural areas. \nRegistration is $25 and includes your lunch. ASB members may only receive CLE credit for attending one of the Toolbox Tour events. \nClick on the link below to register; you’ll be prompted to log into your member portal to complete your registration. \nRegister Here  |  View Agenda
URL:https://alabar.lbcdev.com/event/toolbox-tour-tanner/
LOCATION:Calhoun Community College – ATC Lecture Hall\, 6250 Highway 31 North\, Tanner\, AL\, 35671\, United States
CATEGORIES:CLE,Home
END:VEVENT
BEGIN:VEVENT
DTSTART;TZID=America/Chicago:20241203T100000
DTEND;TZID=America/Chicago:20241203T150000
DTSTAMP:20260421T204010
CREATED:20241025T210929Z
LAST-MODIFIED:20241025T210929Z
UID:67834-1733220000-1733238000@alabar.lbcdev.com
SUMMARY:Toolbox Tour - Dothan
DESCRIPTION:The Alabama State Bar will hit the road for the Toolbox Tour this Fall. The tour is designed to bring a mini-Annual Meeting to you! We’re hosting three 5-hour CLE events in Columbiana\, Dothan\, and Tanner. It’s a great way to get in your MCLE hours before years-end! This event is the Dothan stop. \nEach event will feature CLEs on Ethics\, Criminal Law sentencing\, and valuable state bar member benefits. There will also be a bench and bar luncheon featuring local judges and a panel discussion on Harvesting Hope\, Alabama State Bar President Tom Perry’s platform to recruit and incentivize lawyers to practice in rural areas. \nRegistration is $25 and includes your lunch. ASB members may only receive CLE credit for attending one of the Toolbox Tour events. \nClick on the link below to register; you’ll be prompted to log into your member portal to complete your registration. \nRegister Here  |  View Agenda
URL:https://alabar.lbcdev.com/event/toolbox-tour-dothan/
LOCATION:Troy University – Dothan Campus\, 502 University Drive - Everett Hall\, Dothan\, AL\, 36303\, United States
CATEGORIES:CLE,Home
END:VEVENT
BEGIN:VEVENT
DTSTART;TZID=America/Chicago:20241115T100000
DTEND;TZID=America/Chicago:20241115T150000
DTSTAMP:20260421T204010
CREATED:20241025T210536Z
LAST-MODIFIED:20241025T210536Z
UID:67830-1731664800-1731682800@alabar.lbcdev.com
SUMMARY:Toolbox Tour - Columbiana
DESCRIPTION:The Alabama State Bar will hit the road for the Toolbox Tour this Fall. The tour is designed to bring a mini-Annual Meeting to you! We’re hosting three 5-hour CLE events in Columbiana\, Dothan\, and Tanner. It’s a great way to get in your MCLE hours before years-end! This event is the Columbiana stop. \nEach event will feature CLEs on Ethics\, Criminal Law sentencing\, and valuable state bar member benefits. There will also be a bench and bar luncheon featuring local judges and a panel discussion on Harvesting Hope\, Alabama State Bar President Tom Perry’s platform to recruit and incentivize lawyers to practice in rural areas. \nRegistration is $25 and includes your lunch. ASB members may only receive CLE credit for attending one of the Toolbox Tour events. \nClick on the link below to register; you’ll be prompted to log into your member portal to complete your registration. \nRegister Here  |  View Agenda
URL:https://alabar.lbcdev.com/event/toolbox-tour-columbiana/
LOCATION:First Baptist Church of Columbiana\, 208 N. Main Street\, Columbiana\, AL\, 35051\, United States
CATEGORIES:CLE,Home
END:VEVENT
BEGIN:VEVENT
DTSTART;TZID=America/Chicago:20240626T080000
DTEND;TZID=America/Chicago:20240629T170000
DTSTAMP:20260421T204010
CREATED:20230725T212829Z
LAST-MODIFIED:20230725T212829Z
UID:66106-1719388800-1719680400@alabar.lbcdev.com
SUMMARY:147th Annual Meeting
DESCRIPTION:Registration opens March 28\, 2024!
URL:https://alabar.lbcdev.com/event/147th-annual-meeting/
LOCATION:Hilton Sandestin Beach Golf Resort & Spa\, 4000 Sandestin Blvd S\, Miramar Beach\, FL\, 32550\, United States
CATEGORIES:Home
END:VEVENT
BEGIN:VEVENT
DTSTART;VALUE=DATE:20240501
DTEND;VALUE=DATE:20240502
DTSTAMP:20260421T204010
CREATED:20230926T152813Z
LAST-MODIFIED:20230926T152813Z
UID:66350-1714521600-1714607999@alabar.lbcdev.com
SUMMARY:Law Day 2024: Voices of Democracy
DESCRIPTION:The Voices of Democracy Law Day theme encourages Americans to participate in the 2024 elections by deepening their understanding of the electoral process; discussing issues in honest and civil ways; turning out to vote; and\, finally\, helping to move the country forward after free and fair elections. In this way\, Americans ensure that our government remains responsive to the wishes of the people. We invite all Americans to join us on May 1\, 2024\, to celebrate Law Day by lifting their voices to strengthen our democracy.
URL:https://alabar.lbcdev.com/event/law-day-2024-voices-of-democracy/
LOCATION:AL
CATEGORIES:Home
END:VEVENT
BEGIN:VEVENT
DTSTART;TZID=America/Chicago:20231115T100000
DTEND;TZID=America/Chicago:20231115T150000
DTSTAMP:20260421T204010
CREATED:20231018T152545Z
LAST-MODIFIED:20231018T152545Z
UID:66441-1700042400-1700060400@alabar.lbcdev.com
SUMMARY:OutREACH Tour - Jasper
DESCRIPTION:The Alabama State Bar and President Brannon Buck are excited to announce our ASB OutREACH Tour. We will kick off this in-person networking and CLE series next month in Brewton\, Jasper\, and Rainsville. These Regional Ethics And Civility Hours events are only $25 to attend and will include five hours of CLE programming as well as lunch. There will also be vendors\, door prizes\, and opportunities to learn more about programs of the bar. SPACE IS LIMITED! Registration will close at noon the day before each event.\nRegister here. 
URL:https://alabar.lbcdev.com/event/outreach-tour-jasper/
LOCATION:Bevill State Community College – Jasper
CATEGORIES:Home
END:VEVENT
BEGIN:VEVENT
DTSTART;TZID=America/Chicago:20231114T110000
DTEND;TZID=America/Chicago:20231114T120000
DTSTAMP:20260421T204010
CREATED:20230804T165024Z
LAST-MODIFIED:20230804T165024Z
UID:66167-1699959600-1699963200@alabar.lbcdev.com
SUMMARY:CLE: Top 10 Mistakes Lawyers Make On Fee Agreements (and Their Fixes)
DESCRIPTION:Register here.  \nEvery lawyer knows how to write a simple contact because they had contract law as a 1L. Right? Wrong! Here are the top ten common mistakes made on fee agreements and engagement letters\, followed by clear instructions on how to fix them. This will help you address: \n\nWhat to do with old templates with clauses you don’t remember the purpose of\nThe dangers of editing a contract piecemeal and how to clean it up\nHow to not just have an ethical\, ironclad contract\, but also attract clients and engage them in the legal process\nLearn what clauses should be in every agreement and how to write them well\n\nWHY ATTEND\nYour fee agreements and engagement letters are designed to establish a “meeting of the minds” between the lawyer and client — on both the scope of the work to be performed and the ground rules each party will follow. And since you had contract law as a 1L\, you must know how to draft a simple client representation agreement\, right? Wrong!This one-hour webcast explores the top ten commonly made mistakes on fee agreements and engagement letters\, and provides clear instructions on how to fix them. It will also review the clauses that should be in every fee agreement versus those that are used more selectively. If you want to improve your client-lawyer relationships and protect your firm from future fee disputes\, this program is not to be missed. \nWHAT YOU WILL LEARN  \nWatch this webcast and learn: \n\nWhat to do with old templates with clauses you don’t remember the purpose of\nWhen editing a contract piecemeal can be dangerous\, and how to clean it up\nHow to not just have an ethical\, ironclad contract\, but also attract clients and engage them in the legal process\nWhat clauses should be in every agreement and how to write them well\nHow MRPC 1.4 (communication)\, 1.5 (fees)\, and 1.6 (confidentiality) apply to these agreements\n\nRegister for this program to better anticipate – and eliminate – possible sticking points between you and your clients. Small changes to your standard fee agreements just might make a critical difference! \n  \n 
URL:https://alabar.lbcdev.com/event/cle-top-10-mistakes-lawyers-make-on-fee-agreements-and-their-fixes/
LOCATION:AL
CATEGORIES:Home
END:VEVENT
BEGIN:VEVENT
DTSTART;TZID=America/Chicago:20231108T120000
DTEND;TZID=America/Chicago:20231108T150000
DTSTAMP:20260421T204010
CREATED:20230908T143657Z
LAST-MODIFIED:20230908T143657Z
UID:66293-1699444800-1699455600@alabar.lbcdev.com
SUMMARY:Trial Practice For Women By Women
DESCRIPTION:Register here. \nView full webinar agenda here. \n  \n\n\n\n\n\n\n\n12:05 pm – 1:05 pm  \n  \n“A View from the Bench: Women Leading at the Appellate Level” \n  \nModerated by: \nAshleigh R. Madison \nSEABOTA President \nSoutheastern Georgia Chapter \n  \nJustice Angela McCormick Bisig\nKentucky Supreme Court \n  \nJustice Sarah H. Stewart \nAlabama Supreme Court \n  \nHon. Sara L. Doyle \nGeorgia Court of Appeals\n\n\n\n\n\n\n\n\n1:05 pm – 2:05 pm  \n  \nWork-Life Balance  \nIs it Possible \n  \nModerated by: \nChristina D. Crow \nSEABOTA Secretary \nAlabama Chapter \n  \nRachel Fry\, Ph.D.\nRachel Fry Consulting \n  \n \n\n\n\n\n\n\n\n\n2:05 pm – 3:05 pm  \n  \n“Experience Matters”  \n A panel of distinguished women leading the way \n  \nModerated by: \nSheila P. Hiestand \nSEABOTA Treasurer \nKentucky Chapter \n  \nLa’Verne Edney \nABOTA National President-Elect \nMississippi Chapter \n  \n Robin Frazer Clark \nGeorgia Chapter \n  \nLeslie Patterson Vose\nLandrum & Shouse LLP
URL:https://alabar.lbcdev.com/event/trial-practice-for-women-by-women/
LOCATION:AL
CATEGORIES:Home
END:VEVENT
BEGIN:VEVENT
DTSTART;TZID=America/Chicago:20231108T100000
DTEND;TZID=America/Chicago:20231108T150000
DTSTAMP:20260421T204010
CREATED:20231018T152429Z
LAST-MODIFIED:20231018T152429Z
UID:66437-1699437600-1699455600@alabar.lbcdev.com
SUMMARY:OutREACH Tour - Brewton
DESCRIPTION:The Alabama State Bar and President Brannon Buck are excited to announce our ASB OutREACH Tour. We will kick off this in-person networking and CLE series next month in Brewton\, Jasper\, and Rainsville. These Regional Ethics And Civility Hours events are only $25 to attend and will include five hours of CLE programming as well as lunch. There will also be vendors\, door prizes\, and opportunities to learn more about programs of the bar. SPACE IS LIMITED! Registration will close at noon the day before each event.\nRegister here. 
URL:https://alabar.lbcdev.com/event/outreach-tour-brewton/
LOCATION:Coastal Community College – Brewton
CATEGORIES:Home
END:VEVENT
BEGIN:VEVENT
DTSTART;TZID=America/Chicago:20231025T120000
DTEND;TZID=America/Chicago:20231025T130000
DTSTAMP:20260421T204010
CREATED:20230906T195704Z
LAST-MODIFIED:20230906T195704Z
UID:66282-1698235200-1698238800@alabar.lbcdev.com
SUMMARY:PRO BONO MONTH CLE: “Tech Tips for Practice”
DESCRIPTION:by Chris Colee\, ASB Practice Management Advisor\, and Grace Simms\, Cumberland School of Law Information Technology Librarian \nRegister here. 
URL:https://alabar.lbcdev.com/event/pro-bono-month-cle-tech-tips-for-practice/
LOCATION:AL
CATEGORIES:Home,Pro Bono Month
END:VEVENT
BEGIN:VEVENT
DTSTART;TZID=America/Chicago:20231019T100000
DTEND;TZID=America/Chicago:20231019T120000
DTSTAMP:20260421T204010
CREATED:20230726T202223Z
LAST-MODIFIED:20230726T202223Z
UID:66117-1697709600-1697716800@alabar.lbcdev.com
SUMMARY:Admissions Ceremony
DESCRIPTION:If you plan to attend the ceremony\, please be sure to register and submit your $50 registration fee (non-refundable) through the link below no later than Friday\, October 6\, 2023\, if you were a July 2023 Admittee. If you were a February 2023 Admittees\, please complete your registration no later than Friday\, September 29\, 2023. \nONLY ADMITTEES need to register and pay to attend the Admission Ceremony. Family and guests of admittees are not required to register or pay to attend.
URL:https://alabar.lbcdev.com/event/admissions-ceremony/
LOCATION:Montgomery Performing Arts Center\, 201 Tallapoosa Street\, Montgomery\, AL\, 36104\, United States
CATEGORIES:Home
END:VEVENT
BEGIN:VEVENT
DTSTART;TZID=America/Chicago:20231018T120000
DTEND;TZID=America/Chicago:20231018T130000
DTSTAMP:20260421T204010
CREATED:20230906T195510Z
LAST-MODIFIED:20230906T195510Z
UID:66280-1697630400-1697634000@alabar.lbcdev.com
SUMMARY:PRO BONO MONTH CLE: “Foreclosure and Redemption: It’s Not As Hopeless As You Think”
DESCRIPTION:by Fernando Morgan\, Morgan Law Firm \nRegister here.
URL:https://alabar.lbcdev.com/event/pro-bono-month-cle-foreclosure-and-redemption-its-not-as-hopeless-as-you-think/
LOCATION:AL
CATEGORIES:Home,Pro Bono Month
END:VEVENT
BEGIN:VEVENT
DTSTART;TZID=America/Chicago:20231011T120000
DTEND;TZID=America/Chicago:20231011T130000
DTSTAMP:20260421T204010
CREATED:20230906T195324Z
LAST-MODIFIED:20230906T195324Z
UID:66278-1697025600-1697029200@alabar.lbcdev.com
SUMMARY:PRO BONO MONTH CLE: “Ethics and Online Representation”
DESCRIPTION:by Linda Lund\, Director of ASB VLP; Katarina Essenmacher\, ABAP Coordinator; and Autumn Caudell\, ASB Assistant General Counsel \nRegister here. 
URL:https://alabar.lbcdev.com/event/ethics-and-online-representation/
LOCATION:AL
CATEGORIES:Home,Pro Bono Month
END:VEVENT
BEGIN:VEVENT
DTSTART;TZID=America/Chicago:20231004T120000
DTEND;TZID=America/Chicago:20231004T130000
DTSTAMP:20260421T204010
CREATED:20230906T195209Z
LAST-MODIFIED:20230906T195209Z
UID:66275-1696420800-1696424400@alabar.lbcdev.com
SUMMARY:PRO BONO MONTH CLE: "Divorce 101: Uncontested Forms from Start to Finish”
DESCRIPTION:by Jessie Hardy\, J. Hardy Family Law\, LLC \nRegister here. 
URL:https://alabar.lbcdev.com/event/pro-bono-month-cle-divorce-101-uncontested-forms-from-start-to-finish/
LOCATION:AL
CATEGORIES:Home,Pro Bono Month
END:VEVENT
BEGIN:VEVENT
DTSTART;TZID=America/Chicago:20230927T150000
DTEND;TZID=America/Chicago:20230927T170000
DTSTAMP:20260421T204010
CREATED:20230726T202520Z
LAST-MODIFIED:20230726T202520Z
UID:66123-1695826800-1695834000@alabar.lbcdev.com
SUMMARY:CLE: Capstone - Becoming Empowered by Your Possibility
DESCRIPTION:Register here. 
URL:https://alabar.lbcdev.com/event/cle-capstone-becoming-empowered-by-your-possibility/
LOCATION:Alabama Society of CPAs\, 1041 Longfield Ct.\, Montgomery\, AL\, 36117\, United States
CATEGORIES:Home
END:VEVENT
BEGIN:VEVENT
DTSTART;TZID=America/Chicago:20230921T110000
DTEND;TZID=America/Chicago:20230921T120000
DTSTAMP:20260421T204010
CREATED:20230804T164850Z
LAST-MODIFIED:20230804T164850Z
UID:66165-1695294000-1695297600@alabar.lbcdev.com
SUMMARY:CLE: Leveraging Change Management Principles to Identify and Adopt Your Optimal Legal Tech Stack
DESCRIPTION:The change management process empowers organizations to remodel existing operating procedures\, embrace innovations\, and acquire new skills. This includes the adoption of legal technology and case management software. In fact\, law firms that adopt legal technology will outperform non-adopting practices in the coming years. With that in mind\, one question remains: How can law practices optimize their tech stack and manage the changes that accompany it? This program explains it all. \nRegister here. 
URL:https://alabar.lbcdev.com/event/cle-leveraging-change-management-principles-to-identify-and-adopt-your-optimal-legal-tech-stack/
LOCATION:AL
CATEGORIES:Home
END:VEVENT
BEGIN:VEVENT
DTSTART;TZID=America/Chicago:20230829T110000
DTEND;TZID=America/Chicago:20230829T120000
DTSTAMP:20260421T204010
CREATED:20230804T164743Z
LAST-MODIFIED:20230804T164743Z
UID:66163-1693306800-1693310400@alabar.lbcdev.com
SUMMARY:CLE: Cybersecurity and Law Firms: Minimize the Threat
DESCRIPTION:Description: This CLE will identify current cyber threats to you and your law firm\, as well as address best practices for attorneys and what they can do to minimize the threat of cyber-attacks. \nSpeaker: Jordan Turk\, Practicing Attorney and Legal Technology Advisor at Smokeball \nBio: Jordan Turk is a practicing attorney in Texas and is also the Legal Technology Advisor at Smokeball. She earned a B.A. in Classics\, History\, and Religious Studies from the University of Texas\, and went on to earn her law degree from the University of Arkansas School of Law. Prior to Smokeball\, Jordan worked with a high-asset family law firm in Houston\, Texas. \nRegister here.
URL:https://alabar.lbcdev.com/event/cle-cybersecurity-and-law-firms-minimize-the-threat/
LOCATION:AL
CATEGORIES:Home
END:VEVENT
BEGIN:VEVENT
DTSTART;TZID=America/Chicago:20230816T120000
DTEND;TZID=America/Chicago:20230816T130000
DTSTAMP:20260421T204010
CREATED:20230726T202424Z
LAST-MODIFIED:20230726T202424Z
UID:66121-1692187200-1692190800@alabar.lbcdev.com
SUMMARY:CLE: The Financial Future Is Female - More Money in the Hands of Women
DESCRIPTION:Register here. 
URL:https://alabar.lbcdev.com/event/cle-the-financial-future-is-female-more-money-in-the-hands-of-women/
LOCATION:Zoom
CATEGORIES:Home
END:VEVENT
BEGIN:VEVENT
DTSTART;TZID=America/Chicago:20230814T110000
DTEND;TZID=America/Chicago:20230814T120000
DTSTAMP:20260421T204010
CREATED:20230726T202700Z
LAST-MODIFIED:20230726T202700Z
UID:66125-1692010800-1692014400@alabar.lbcdev.com
SUMMARY:CLE: Suicide Awareness and Prevention
DESCRIPTION:This one-hour program\, hosted by the SAM Foundation\, will teach lawyers how to recognize the warning signs of suicide and how to talk with someone who may be at risk for suicide. Attendees will also learn tips for persuading at-risk individuals to get help through available resources. \nRegister for August 14 here.  \nRegister for August 15 here. 
URL:https://alabar.lbcdev.com/event/cle-suicide-awareness-and-prevention/
LOCATION:AL
CATEGORIES:Health & Wellness,Home
END:VEVENT
BEGIN:VEVENT
DTSTART;TZID=America/Chicago:20230725T080000
DTEND;TZID=America/Chicago:20230726T170000
DTSTAMP:20260421T204010
CREATED:20230112T223735Z
LAST-MODIFIED:20230112T223735Z
UID:65059-1690272000-1690390800@alabar.lbcdev.com
SUMMARY:July Bar Exam
DESCRIPTION:
URL:https://alabar.lbcdev.com/event/july-bar-exam-2/
LOCATION:AL
CATEGORIES:Home
END:VEVENT
BEGIN:VEVENT
DTSTART;TZID=America/Chicago:20230712T080000
DTEND;TZID=America/Chicago:20230716T170000
DTSTAMP:20260421T204010
CREATED:20220831T135143Z
LAST-MODIFIED:20220831T135143Z
UID:64271-1689148800-1689526800@alabar.lbcdev.com
SUMMARY:2023 Annual Meeting
DESCRIPTION:
URL:https://alabar.lbcdev.com/event/2023-annual-meeting/
LOCATION:Grand Hotel Resort\, Golf Club & Spa\, One Grand Boulevard\, Point Clear\, AL\, United States
CATEGORIES:Home
END:VEVENT
BEGIN:VEVENT
DTSTART;TZID=America/Chicago:20230602T080000
DTEND;TZID=America/Chicago:20230603T170000
DTSTAMP:20260421T204010
CREATED:20230126T162004Z
LAST-MODIFIED:20230126T162004Z
UID:65123-1685692800-1685811600@alabar.lbcdev.com
SUMMARY:Bankruptcy on the Beach
DESCRIPTION:
URL:https://alabar.lbcdev.com/event/bankruptcy-on-the-beach/
LOCATION:AL
END:VEVENT
BEGIN:VEVENT
DTSTART;TZID=America/Chicago:20230524T120000
DTEND;TZID=America/Chicago:20230524T133000
DTSTAMP:20260421T204010
CREATED:20230425T152606Z
LAST-MODIFIED:20230425T152606Z
UID:65636-1684929600-1684935000@alabar.lbcdev.com
SUMMARY:Drive for Five - Circuit 30
DESCRIPTION:
URL:https://alabar.lbcdev.com/event/drive-for-five-circuit-30/
LOCATION:City Market Grill and Buffet
CATEGORIES:Drive for Five
END:VEVENT
BEGIN:VEVENT
DTSTART;TZID=America/Chicago:20230516T170000
DTEND;TZID=America/Chicago:20230516T180000
DTSTAMP:20260421T204010
CREATED:20230425T152516Z
LAST-MODIFIED:20230425T152516Z
UID:65633-1684256400-1684260000@alabar.lbcdev.com
SUMMARY:Drive for Five - Circuits 11\, 25\, 31\, 34\, 36
DESCRIPTION:
URL:https://alabar.lbcdev.com/event/drive-for-five-circuits-11-25-31-34-36/
LOCATION:Doe’s Eat Place
CATEGORIES:Drive for Five
END:VEVENT
BEGIN:VEVENT
DTSTART;TZID=America/Chicago:20230516T150000
DTEND;TZID=America/Chicago:20230516T160000
DTSTAMP:20260421T204010
CREATED:20230425T152407Z
LAST-MODIFIED:20230425T152407Z
UID:65631-1684249200-1684252800@alabar.lbcdev.com
SUMMARY:Drive for Five - Circuit 8
DESCRIPTION:
URL:https://alabar.lbcdev.com/event/drive-for-five-circuit-8/
LOCATION:Morgan County Courthouse\, 302 Lee Street NE\, Decatur\, AL\, 35601\, United States
CATEGORIES:Drive for Five
END:VEVENT
BEGIN:VEVENT
DTSTART;TZID=America/Chicago:20230516T110000
DTEND;TZID=America/Chicago:20230516T120000
DTSTAMP:20260421T204010
CREATED:20230425T152259Z
LAST-MODIFIED:20230425T152259Z
UID:65628-1684234800-1684238400@alabar.lbcdev.com
SUMMARY:Drive for Five - Circuit 39
DESCRIPTION:
URL:https://alabar.lbcdev.com/event/drive-for-five-circuit-39/
LOCATION:Limestone County Courthouse
CATEGORIES:Drive for Five
END:VEVENT
BEGIN:VEVENT
DTSTART;TZID=America/Chicago:20230512T120000
DTEND;TZID=America/Chicago:20230512T130000
DTSTAMP:20260421T204010
CREATED:20230425T151956Z
LAST-MODIFIED:20230425T151956Z
UID:65625-1683892800-1683896400@alabar.lbcdev.com
SUMMARY:Drive for Five - Circuit 33
DESCRIPTION:
URL:https://alabar.lbcdev.com/event/drive-for-five-circuit-33/
LOCATION:Dale County Courthouse
CATEGORIES:Drive for Five
END:VEVENT
BEGIN:VEVENT
DTSTART;TZID=America/Chicago:20230511T120000
DTEND;TZID=America/Chicago:20230511T130000
DTSTAMP:20260421T204010
CREATED:20230112T223245Z
LAST-MODIFIED:20230112T223245Z
UID:65052-1683806400-1683810000@alabar.lbcdev.com
SUMMARY:CLE: How Positive and Negative Energy Affects Your Practice
DESCRIPTION:Learn how you can set the tone to create a positive environment/culture with Make-A-Wish President and CEO\, Tracy Bennett Smith. \nRegister in advance for this webinar: \nhttps://us02web.zoom.us/webinar/register/WN_rk-nK5jYQu2acxEjeG6zDg \n 
URL:https://alabar.lbcdev.com/event/cle-how-positive-and-negative-energy-affects-your-practice/
LOCATION:AL
CATEGORIES:CLE,Home
END:VEVENT
BEGIN:VEVENT
DTSTART;TZID=America/Chicago:20230502T140000
DTEND;TZID=America/Chicago:20230502T150000
DTSTAMP:20260421T204010
CREATED:20230425T151909Z
LAST-MODIFIED:20230425T151909Z
UID:65622-1683036000-1683039600@alabar.lbcdev.com
SUMMARY:Drive for Five - Circuit 40
DESCRIPTION:
URL:https://alabar.lbcdev.com/event/drive-for-five-circuit-40/
LOCATION:Coosa County Courthouse
CATEGORIES:Drive for Five
END:VEVENT
BEGIN:VEVENT
DTSTART;TZID=America/Chicago:20230502T110000
DTEND;TZID=America/Chicago:20230502T120000
DTSTAMP:20260421T204010
CREATED:20230425T151741Z
LAST-MODIFIED:20230425T151741Z
UID:65620-1683025200-1683028800@alabar.lbcdev.com
SUMMARY:Drive for Five - Circuit 37
DESCRIPTION:
URL:https://alabar.lbcdev.com/event/drive-for-five-circuit-37/
LOCATION:Lee County Justice Center\, 2311 Gateway Drive\, Opelika\, AL\, 36801
CATEGORIES:Drive for Five
END:VEVENT
END:VCALENDAR