BEGIN:VCALENDAR
VERSION:2.0
PRODID:-//Alabama State Bar - ECPv6.15.20//NONSGML v1.0//EN
CALSCALE:GREGORIAN
METHOD:PUBLISH
X-WR-CALNAME:Alabama State Bar
X-ORIGINAL-URL:https://alabar.lbcdev.com
X-WR-CALDESC:Events for Alabama State Bar
REFRESH-INTERVAL;VALUE=DURATION:PT1H
X-Robots-Tag:noindex
X-PUBLISHED-TTL:PT1H
BEGIN:VTIMEZONE
TZID:America/Chicago
BEGIN:DAYLIGHT
TZOFFSETFROM:-0600
TZOFFSETTO:-0500
TZNAME:CDT
DTSTART:20130310T080000
END:DAYLIGHT
BEGIN:STANDARD
TZOFFSETFROM:-0500
TZOFFSETTO:-0600
TZNAME:CST
DTSTART:20131103T070000
END:STANDARD
BEGIN:DAYLIGHT
TZOFFSETFROM:-0600
TZOFFSETTO:-0500
TZNAME:CDT
DTSTART:20140309T080000
END:DAYLIGHT
BEGIN:STANDARD
TZOFFSETFROM:-0500
TZOFFSETTO:-0600
TZNAME:CST
DTSTART:20141102T070000
END:STANDARD
BEGIN:DAYLIGHT
TZOFFSETFROM:-0600
TZOFFSETTO:-0500
TZNAME:CDT
DTSTART:20150308T080000
END:DAYLIGHT
BEGIN:STANDARD
TZOFFSETFROM:-0500
TZOFFSETTO:-0600
TZNAME:CST
DTSTART:20151101T070000
END:STANDARD
BEGIN:DAYLIGHT
TZOFFSETFROM:-0600
TZOFFSETTO:-0500
TZNAME:CDT
DTSTART:20160313T080000
END:DAYLIGHT
BEGIN:STANDARD
TZOFFSETFROM:-0500
TZOFFSETTO:-0600
TZNAME:CST
DTSTART:20161106T070000
END:STANDARD
END:VTIMEZONE
BEGIN:VEVENT
DTSTART;TZID=America/Chicago:20150320T090000
DTEND;TZID=America/Chicago:20150320T140000
DTSTAMP:20260423T020215
CREATED:20150224T203030Z
LAST-MODIFIED:20150224T203030Z
UID:40881-1426842000-1426860000@alabar.lbcdev.com
SUMMARY:CSF Committee Meeting
DESCRIPTION:
URL:https://alabar.lbcdev.com/event/csf-committee-meeting/
LOCATION:Alabama State Bar\, 415 Dexter Avenue\, Montgomery\, AL\, United States
CATEGORIES:Public Events
END:VEVENT
BEGIN:VEVENT
DTSTART;TZID=America/Chicago:20150313T133000
DTEND;TZID=America/Chicago:20150313T163000
DTSTAMP:20260423T020215
CREATED:20150224T202847Z
LAST-MODIFIED:20150224T202847Z
UID:40880-1426253400-1426264200@alabar.lbcdev.com
SUMMARY:Pro Bono + Public Service Committee Meeting
DESCRIPTION:
URL:https://alabar.lbcdev.com/event/pro-bono-public-service-committee-meeting/
LOCATION:Alabama State Bar\, 415 Dexter Avenue\, Montgomery\, AL\, United States
CATEGORIES:Public Events
END:VEVENT
BEGIN:VEVENT
DTSTART;TZID=America/Chicago:20150313T100000
DTEND;TZID=America/Chicago:20150313T100000
DTSTAMP:20260423T020215
CREATED:20150225T165109Z
LAST-MODIFIED:20150225T165109Z
UID:40892-1426240800-1426240800@alabar.lbcdev.com
SUMMARY:Board of Bar Commissioners Meeting
DESCRIPTION:
URL:https://alabar.lbcdev.com/event/board-of-bar-commissioners-meeting/
LOCATION:Alabama State Bar\, 415 Dexter Avenue\, Montgomery\, AL\, United States
CATEGORIES:Public Events
END:VEVENT
BEGIN:VEVENT
DTSTART;TZID=America/Chicago:20150313T090000
DTEND;TZID=America/Chicago:20150313T100000
DTSTAMP:20260423T020215
CREATED:20150224T201033Z
LAST-MODIFIED:20150224T201033Z
UID:40878-1426237200-1426240800@alabar.lbcdev.com
SUMMARY:Finance + Audit Committee Meeting
DESCRIPTION:
URL:https://alabar.lbcdev.com/event/finance-audit-committee-meeting/
LOCATION:Alabama State Bar\, 415 Dexter Avenue\, Montgomery\, AL\, United States
CATEGORIES:Public Events
END:VEVENT
BEGIN:VEVENT
DTSTART;TZID=America/Chicago:20150310T093000
DTEND;TZID=America/Chicago:20150310T113000
DTSTAMP:20260423T020215
CREATED:20150309T163459Z
LAST-MODIFIED:20150309T163459Z
UID:41019-1425979800-1425987000@alabar.lbcdev.com
SUMMARY:Veterans Court Orientation
DESCRIPTION:The Alabama State Bar will be holding a ‪Veterans‬ Court orientation on March 10\, 2015\, from 9:30-11:30 a.m. During the orientation\, attorneys will learn how they can serve ‪Alabama‬ and its veterans by assisting in efforts to establish or expand Veterans Courts in their jurisdiction. \nAdmiral Jack Natter\, Judge Bill Bostick and Colonel Bryan Morgan will be sharing their experiences in assisting veterans and their families through the Veterans Court. Attorneys in attendance will receive two (2) hours of MCLE credit for attending the orientation\, compensation that is second only to the opportunity you have to give back to those who have sacrificed so much for us. \n\nPlease email Christina Butler at christina.butler@alabar.org to confirm your attendance. \nIf you have any questions prior to the orientation\, please contact Taylor Nichols via email at taylor.nichols@ltgov.alabama.gov.
URL:https://alabar.lbcdev.com/event/veterans-court-orientation/
LOCATION:Capitol Building Auditorium\, 600 Dexter Avenue\, Montgomery\, AL\, United States
CATEGORIES:Public Events
END:VEVENT
BEGIN:VEVENT
DTSTART;TZID=America/Chicago:20150227T090000
DTEND;TZID=America/Chicago:20150227T163000
DTSTAMP:20260423T020216
CREATED:20150224T200801Z
LAST-MODIFIED:20150224T200801Z
UID:40877-1425027600-1425054600@alabar.lbcdev.com
SUMMARY:Judges Meeting / Judicial Liaison Committee Meeting
DESCRIPTION:
URL:https://alabar.lbcdev.com/event/judges-meeting-judicial-liaison-committee-meeting/
LOCATION:Alabama State Bar\, 415 Dexter Avenue\, Montgomery\, AL\, United States
CATEGORIES:Public Events
END:VEVENT
BEGIN:VEVENT
DTSTART;VALUE=DATE:20150224
DTEND;VALUE=DATE:20150226
DTSTAMP:20260423T020216
CREATED:20150224T215359Z
LAST-MODIFIED:20150224T215359Z
UID:40889-1424736000-1424908799@alabar.lbcdev.com
SUMMARY:Alabama Bar Exam
DESCRIPTION:
URL:https://alabar.lbcdev.com/event/alabama-bar-exam/
LOCATION:Renaissance Montgomery\, 201 Tallapoosa Street\, Montgomery\, AL\, 36104\, United States
CATEGORIES:Public Events
END:VEVENT
BEGIN:VEVENT
DTSTART;VALUE=DATE:20141211
DTEND;VALUE=DATE:20141213
DTSTAMP:20260423T020216
CREATED:20141208T162554Z
LAST-MODIFIED:20141208T162554Z
UID:5907-1418256000-1418428799@alabar.lbcdev.com
SUMMARY:Last Chance MCLE Seminar
DESCRIPTION:Two-day MCLE facilitated by the Huntsville-Madison County Bar Association.  For detailed information\, click here.
URL:https://alabar.lbcdev.com/event/last-chance-mcle-seminar/
LOCATION:Huntsville-Madison County Law Library\, East Side Square\, Huntsville\, AL\, 35801\, United States
CATEGORIES:Public Events
END:VEVENT
BEGIN:VEVENT
DTSTART;TZID=America/Chicago:20141121T090000
DTEND;TZID=America/Chicago:20141121T133000
DTSTAMP:20260423T020216
CREATED:20141107T222158Z
LAST-MODIFIED:20141107T222158Z
UID:5503-1416560400-1416576600@alabar.lbcdev.com
SUMMARY:Domestic Violence Advocacy: Resources for Family Law Attorneys
DESCRIPTION:SafeHouse is offering this 4-hour training focusing on best practices when representing domestic violence victims. In addition\, a judges panel will address ethical considerations. SafeHouse of Shelby County is offering this FREE CLE to attendees who join the volunteer lawyer roster for SafeHouse. This program has been approved for 4 CLE hours\, including 1 for ethics. \nLunch is provided courtesy of White Arnold and Dowd\, PC. \nTo register\, please call Erin Boden at 205-378-2922 or e-mail her at erinb@safehouse.org.
URL:https://alabar.lbcdev.com/event/domestic-violence-advocacy-resources-family-law-attorneys/
LOCATION:Shelby County Department of Human Resources\, 987 Alabama 70\, Columbiana\, AL\, United States
CATEGORIES:Public Events
END:VEVENT
BEGIN:VEVENT
DTSTART;TZID=America/Chicago:20141114T173000
DTEND;TZID=America/Chicago:20141114T173000
DTSTAMP:20260423T020216
CREATED:20141007T142530Z
LAST-MODIFIED:20141007T142530Z
UID:5179-1415986200-1415986200@alabar.lbcdev.com
SUMMARY:The Distinguishable Judge Roast: Judge Charles Price
DESCRIPTION:The Distinguishable Judge Roast honoring Judge Charles Price for his 31 years of service as a circuit judge in Montgomery County. \n5:30 p.m. – Reception and Silent Auction \n7:00 p.m. – Dinner and Roast \nTickets:\nAdmission is $75 per person. Please RSVP by October 27\, 2014.  Tickets\, sponsorships and other opportunities can be purchased online at www.mcbar.org\, by calling the MCBA office at (334) 265-4793 or by mailing a check to: \nMontgomery County Bar Association\nP.O. Box 72\nMontgomery\, AL 36101 \nAll proceeds benefit Mary Ellen’s Hearth at Nellie Burge Community Center\, Medical Outreach Ministries and the Montgomery Volunteer Lawyers Program. \nAccommodations:\nA block of rooms has been reserved at the Renaissance Montgomery Hotel & Spa for out-of-town guests.  Please call 1-877-545-0311 to make a reservation prior to October 14\, 2014. Reference name: MCBA Event; Reference #: M-1W112JA. \nDress:\nCocktail attire.
URL:https://alabar.lbcdev.com/event/distinguishable-judge-roast-judge-charles-price/
LOCATION:Renaissance Montgomery\, 201 Tallapoosa Street\, Montgomery\, AL\, 36104\, United States
CATEGORIES:Public Events
END:VEVENT
BEGIN:VEVENT
DTSTART;TZID=America/Chicago:20141031T100000
DTEND;TZID=America/Chicago:20141031T130000
DTSTAMP:20260423T020216
CREATED:20140911T201634Z
LAST-MODIFIED:20140911T201634Z
UID:4795-1414749600-1414760400@alabar.lbcdev.com
SUMMARY:Law Student Public Interest Recognition
DESCRIPTION:Students from each of the five state law schools have been selected by Alabama State Bar President Rich Raleigh to attend the Alabama State Bar Board of Bar Commissioners meeting and have lunch with the commission.  The law schools select students with involvement in public interest and pro bono efforts. \nNote: This event is not eligible for MCLE credit. \n  \nSponsoring organizations: \n\nAlabama State Bar\nAlabama State Bar Pro Bono Celebration Task Force
URL:https://alabar.lbcdev.com/event/law-student-public-interest-recognition/
LOCATION:Alabama State Bar\, 415 Dexter Avenue\, Montgomery\, AL\, United States
CATEGORIES:Pro Bono Month,Public Events
ORGANIZER;CN="Alabama State Bar VLP":MAILTO:linda.lund@alabar.org
END:VEVENT
BEGIN:VEVENT
DTSTART;TZID=America/Chicago:20141030T083000
DTEND;TZID=America/Chicago:20141030T120000
DTSTAMP:20260423T020216
CREATED:20140911T191434Z
LAST-MODIFIED:20140911T191434Z
UID:4770-1414657800-1414670400@alabar.lbcdev.com
SUMMARY:District Court Help Desk
DESCRIPTION:Free legal clinic for eligible clients to receive help with civil issues such as evictions\, garnishments and probate issues.  This clinic is held every Monday and Thursday in October in conjunction with Pro Bono Month. \nIf you are a lawyer interested in volunteering for this event\, please contact Nancy Yarbrough via email at nyarbrough@vlpbirmingham.org. \nNote: CLE is not available for this event. \n  \nSponsoring organization: \n\nBirmingham Bar Volunteer Lawyers Program
URL:https://alabar.lbcdev.com/event/district-court-help-desk-9/
LOCATION:Jefferson County Courthouse (Fifth Floor)\, 716 Richard Arrington Jr. Blvd N.\, Birmingham\, AL\, United States
CATEGORIES:Pro Bono Month,Public Events
END:VEVENT
BEGIN:VEVENT
DTSTART;TZID=America/Chicago:20141029T130000
DTEND;TZID=America/Chicago:20141029T150000
DTSTAMP:20260423T020216
CREATED:20140910T194242Z
LAST-MODIFIED:20140910T194242Z
UID:4747-1414587600-1414594800@alabar.lbcdev.com
SUMMARY:Homeless Experience Legal Protection (HELP) Clinic
DESCRIPTION:Volunteers make a difference by spending a few hours providing legal assistance to persons experiencing homelessness.  The clinic is held every other Wednesday. \nIf you are a lawyer interested in volunteering\, please contact Lisa Borden via email at lborden@bakerdonelson.com. \nNote: CLE credit is NOT available for this event. \n  \nSponsoring Organizations: \n\nBaker\, Donelson\, Bearman\, Caldwell & Berkowitz\, P.C.\nBirmingham Bar Volunteer Lawyers Program\nCumberland School of Law
URL:https://alabar.lbcdev.com/event/homeless-experience-legal-protection-help-clinic-3/
LOCATION:Firehouse Shelter\, 1501 3rd Avenue N.\, Birmingham\, AL\, United States
CATEGORIES:Pro Bono Month,Public Events
END:VEVENT
BEGIN:VEVENT
DTSTART;TZID=America/Chicago:20141028T140000
DTEND;TZID=America/Chicago:20141028T140000
DTSTAMP:20260423T020216
CREATED:20140911T200748Z
LAST-MODIFIED:20140911T200748Z
UID:4791-1414504800-1414504800@alabar.lbcdev.com
SUMMARY:Turning Point Homeless Docket
DESCRIPTION:Volunteers make a difference by spending a few hours representing a deserving person who is currently experiencing homelessness in a special court designed to find alternative sentencing options. \nIf you are interested in volunteering\, please contact Lisa Borden via email at lborden@bakerdonelson.com.
URL:https://alabar.lbcdev.com/event/turning-point-homeless-docket/
LOCATION:First Light Shelter\, 2230 4th Avenue N.\, Birmingham\, AL\, United States
CATEGORIES:Pro Bono Month,Public Events
END:VEVENT
BEGIN:VEVENT
DTSTART;TZID=America/Chicago:20141028T090000
DTEND;TZID=America/Chicago:20141028T150000
DTSTAMP:20260423T020216
CREATED:20140911T201221Z
LAST-MODIFIED:20140911T201221Z
UID:4793-1414486800-1414508400@alabar.lbcdev.com
SUMMARY:Senior Citizen Wills Clinic
DESCRIPTION:Free simple wills\, health care directives and powers of attorney for seniors residing in Jefferson County. \nMembers of the public can call the Cumberland Community Mediation Center at 205-726-4342 to set up an appointment. \nNote: This event is not eligible for MCLE credit. \n  \nSponsoring organizations: \n\nCumberland School of Law\nBirmingham Bar Association
URL:https://alabar.lbcdev.com/event/senior-citizen-wills-clinic/
LOCATION:Oxmoor Valley Community Center\, 1992 Wenonah Oxmoor Road\, Birmingham\, AL\, 35211\, United States
CATEGORIES:Pro Bono Month,Public Events
ORGANIZER;CN="Cumberland School of Law":MAILTO:ccmc@samford.edu
END:VEVENT
BEGIN:VEVENT
DTSTART;TZID=America/Chicago:20141027T083000
DTEND;TZID=America/Chicago:20141027T120000
DTSTAMP:20260423T020216
CREATED:20140911T191138Z
LAST-MODIFIED:20140911T191138Z
UID:4769-1414398600-1414411200@alabar.lbcdev.com
SUMMARY:District Court Help Desk
DESCRIPTION:Free legal clinic for eligible clients to receive help with civil issues such as evictions\, garnishments and probate issues.  This clinic is held every Monday and Thursday in October in conjunction with Pro Bono Month. \nIf you are a lawyer interested in volunteering for this event\, please contact Nancy Yarbrough via email at nyarbrough@vlpbirmingham.org. \nNote: CLE is not available for this event. \n  \nSponsoring organization: \n\nBirmingham Bar Volunteer Lawyers Program
URL:https://alabar.lbcdev.com/event/district-court-help-desk-8/
LOCATION:Jefferson County Courthouse (Fifth Floor)\, 716 Richard Arrington Jr. Blvd N.\, Birmingham\, AL\, United States
CATEGORIES:Pro Bono Month,Public Events
END:VEVENT
BEGIN:VEVENT
DTSTART;TZID=America/Chicago:20141023T150000
DTEND;TZID=America/Chicago:20141023T173000
DTSTAMP:20260423T020216
CREATED:20140911T200305Z
LAST-MODIFIED:20140911T200305Z
UID:4788-1414076400-1414085400@alabar.lbcdev.com
SUMMARY:Tuscaloosa Legal Assistance Clinic
DESCRIPTION:Get answers to your legal questions at the Tuscaloosa Legal Assistance Clinic.  The clinic is free and open to the public.  No appointment is necessary.  Local lawyers will provide free legal advice to those who cannot afford legal assistance. \nNote: This event is not eligible for MCLE credit. \n  \nSponsoring organizations: \n\nAlabama State Bar Volunteer Lawyers Program\nTuscaloosa County Bar Association\nUniversity of Alabama School of Law\nLegal Services Alabama
URL:https://alabar.lbcdev.com/event/tuscaloosa-legal-assistance-clinic/
LOCATION:Tuscaloosa Public Library Main Branch\, 1801 Jack Warner Parkway NE\, Tuscaloosa\, AL\, 35401\, United States
CATEGORIES:Pro Bono Month,Public Events
ORGANIZER;CN="Alabama State Bar VLP":MAILTO:linda.lund@alabar.org
END:VEVENT
BEGIN:VEVENT
DTSTART;TZID=America/Chicago:20141023T083000
DTEND;TZID=America/Chicago:20141023T120000
DTSTAMP:20260423T020216
CREATED:20140911T191033Z
LAST-MODIFIED:20140911T191033Z
UID:4768-1414053000-1414065600@alabar.lbcdev.com
SUMMARY:District Court Help Desk
DESCRIPTION:Free legal clinic for eligible clients to receive help with civil issues such as evictions\, garnishments and probate issues.  This clinic is held every Monday and Thursday in October in conjunction with Pro Bono Month. \nIf you are a lawyer interested in volunteering for this event\, please contact Nancy Yarbrough via email at nyarbrough@vlpbirmingham.org. \nNote: CLE is not available for this event. \n  \nSponsoring organization: \n\nBirmingham Bar Volunteer Lawyers Program
URL:https://alabar.lbcdev.com/event/district-court-help-desk-7/
LOCATION:Jefferson County Courthouse (Fifth Floor)\, 716 Richard Arrington Jr. Blvd N.\, Birmingham\, AL\, United States
CATEGORIES:Pro Bono Month,Public Events
END:VEVENT
BEGIN:VEVENT
DTSTART;TZID=America/Chicago:20141022T083000
DTEND;TZID=America/Chicago:20141022T120000
DTSTAMP:20260423T020216
CREATED:20140911T184708Z
LAST-MODIFIED:20140911T184708Z
UID:4759-1413966600-1413979200@alabar.lbcdev.com
SUMMARY:Domestic Relations Help Desk
DESCRIPTION:Free legal clinic for eligible clients to receive help with domestic relations and family law legal issues.  This clinic is held every Wednesday in October in conjunction with Pro Bono Month. \nIf you are a lawyer interested in volunteering for this event\, please contact Nancy Yarbrough via email at nyarbrough@vlpbirmingham.org. \nNote: CLE is not available for this event. \n  \nSponsoring organization: \n\nBirmingham Bar Volunteer Lawyers Program
URL:https://alabar.lbcdev.com/event/domestic-relations-help-desk-4/
LOCATION:Jefferson County Domestic Relations Courthouse (First Floor)\, 2124 7th Avenue N.\, Birmingham\, AL\, United States
CATEGORIES:Pro Bono Month,Public Events
END:VEVENT
BEGIN:VEVENT
DTSTART;TZID=America/Chicago:20141021T090000
DTEND;TZID=America/Chicago:20141021T150000
DTSTAMP:20260423T020216
CREATED:20140911T195826Z
LAST-MODIFIED:20140911T195826Z
UID:4786-1413882000-1413903600@alabar.lbcdev.com
SUMMARY:Wills for Heroes + Senior Citizen Clinic
DESCRIPTION:Free simple wills\, health care directives and powers of attorney for first responders and senior citizens of Jefferson County. \nMembers of the public can call the Cumberland Community Mediation Center at 205-726-4342 to schedule an appointment. \nNote: This event is not eligible for MCLE credit. \n  \nSponsoring organizations: \n\nCumberland School of Law\nBessemer Bar Association
URL:https://alabar.lbcdev.com/event/wills-heroes-senior-citizen-clinic/
LOCATION:Bessemer Courthouse\, 1851 2nd Avenue\, Bessemer\, AL\, 35020\, United States
CATEGORIES:Pro Bono Month,Public Events
ORGANIZER;CN="Cumberland School of Law":MAILTO:ccmc@samford.edu
END:VEVENT
BEGIN:VEVENT
DTSTART;TZID=America/Chicago:20141020T083000
DTEND;TZID=America/Chicago:20141020T120000
DTSTAMP:20260423T020216
CREATED:20140911T190911Z
LAST-MODIFIED:20140911T190911Z
UID:4767-1413793800-1413806400@alabar.lbcdev.com
SUMMARY:District Court Help Desk
DESCRIPTION:Free legal clinic for eligible clients to receive help with civil issues such as evictions\, garnishments and probate issues.  This clinic is held every Monday and Thursday in October in conjunction with Pro Bono Month. \nIf you are a lawyer interested in volunteering for this event\, please contact Nancy Yarbrough via email at nyarbrough@vlpbirmingham.org. \nNote: CLE is not available for this event. \n  \nSponsoring organization: \n\nBirmingham Bar Volunteer Lawyers Program
URL:https://alabar.lbcdev.com/event/district-court-help-desk-6/
LOCATION:Jefferson County Courthouse (Fifth Floor)\, 716 Richard Arrington Jr. Blvd N.\, Birmingham\, AL\, United States
CATEGORIES:Pro Bono Month,Public Events
END:VEVENT
BEGIN:VEVENT
DTSTART;TZID=America/Chicago:20141016T083000
DTEND;TZID=America/Chicago:20141016T120000
DTSTAMP:20260423T020216
CREATED:20140911T190633Z
LAST-MODIFIED:20140911T190633Z
UID:4766-1413448200-1413460800@alabar.lbcdev.com
SUMMARY:District Court Help Desk
DESCRIPTION:Free legal clinic for eligible clients to receive help with civil issues such as evictions\, garnishments and probate issues.  This clinic is held every Monday and Thursday in October in conjunction with Pro Bono Month. \nIf you are a lawyer interested in volunteering for this event\, please contact Nancy Yarbrough via email at nyarbrough@vlpbirmingham.org. \nNote: CLE is not available for this event. \n  \nSponsoring organization: \n\nBirmingham Bar Volunteer Lawyers Program
URL:https://alabar.lbcdev.com/event/district-court-help-desk-5/
LOCATION:Jefferson County Courthouse (Fifth Floor)\, 716 Richard Arrington Jr. Blvd N.\, Birmingham\, AL\, United States
CATEGORIES:Pro Bono Month,Public Events
END:VEVENT
BEGIN:VEVENT
DTSTART;TZID=America/Chicago:20141015T130000
DTEND;TZID=America/Chicago:20141015T150000
DTSTAMP:20260423T020216
CREATED:20140910T194004Z
LAST-MODIFIED:20140910T194004Z
UID:4746-1413378000-1413385200@alabar.lbcdev.com
SUMMARY:Homeless Experience Legal Protection (HELP) Clinic
DESCRIPTION:Volunteers make a difference by spending a few hours providing legal assistance to persons experiencing homelessness.  The clinic is held every other Wednesday. \nIf you are a lawyer interested in volunteering\, please contact Lisa Borden via email at lborden@bakerdonelson.com. \nNote: CLE credit is NOT available for this event. \n  \nSponsoring Organizations: \n\nBaker\, Donelson\, Bearman\, Caldwell & Berkowitz\, P.C.\nBirmingham Bar Volunteer Lawyers Program\nCumberland School of Law
URL:https://alabar.lbcdev.com/event/homeless-experience-legal-protection-help-clinic-2/
LOCATION:Firehouse Shelter\, 1501 3rd Avenue N.\, Birmingham\, AL\, United States
CATEGORIES:Pro Bono Month,Public Events
END:VEVENT
BEGIN:VEVENT
DTSTART;TZID=America/Chicago:20141015T100000
DTEND;TZID=America/Chicago:20141015T120000
DTSTAMP:20260423T020216
CREATED:20140911T195233Z
LAST-MODIFIED:20140911T195233Z
UID:4784-1413367200-1413374400@alabar.lbcdev.com
SUMMARY:Senior Citizen Wills Advice and Counsel Clinic
DESCRIPTION:Informative discussion on the benefits of having a will\, health care directive and power of attorney for senior citizens that reside in Jefferson County. \nAdditional information is available online. \nNote: This event is not eligible for MCLE credit. \n  \nSponsoring organization: \n\nCumberland School of Law
URL:https://alabar.lbcdev.com/event/senior-citizen-wills-advice-counsel-clinic/
LOCATION:Midfield Senior Center\, 589 Bessemer Super Highway\, Birmingham\, AL\, 35228\, United States
CATEGORIES:Pro Bono Month,Public Events
ORGANIZER;CN="Cumberland School of Law":MAILTO:ccmc@samford.edu
END:VEVENT
BEGIN:VEVENT
DTSTART;TZID=America/Chicago:20141015T083000
DTEND;TZID=America/Chicago:20141015T120000
DTSTAMP:20260423T020216
CREATED:20140911T184557Z
LAST-MODIFIED:20140911T184557Z
UID:4758-1413361800-1413374400@alabar.lbcdev.com
SUMMARY:Domestic Relations Help Desk
DESCRIPTION:Free legal clinic for eligible clients to receive help with domestic relations and family law legal issues.  This clinic is held every Wednesday in October in conjunction with Pro Bono Month. \nIf you are a lawyer interested in volunteering for this event\, please contact Nancy Yarbrough via email at nyarbrough@vlpbirmingham.org. \nNote: CLE is not available for this event. \n  \nSponsoring organization: \n\nBirmingham Bar Volunteer Lawyers Program
URL:https://alabar.lbcdev.com/event/domestic-relations-help-desk-3/
LOCATION:Jefferson County Domestic Relations Courthouse (First Floor)\, 2124 7th Avenue N.\, Birmingham\, AL\, United States
CATEGORIES:Pro Bono Month,Public Events
END:VEVENT
BEGIN:VEVENT
DTSTART;TZID=America/Chicago:20141010T081500
DTEND;TZID=America/Chicago:20141010T123000
DTSTAMP:20260423T020216
CREATED:20140911T194518Z
LAST-MODIFIED:20140911T194518Z
UID:4781-1412928900-1412944200@alabar.lbcdev.com
SUMMARY:Poverty Simulation Seminar - Birmingham
DESCRIPTION:The Poverty Simulation is designed to showcase the challenges facing those living at or below the poverty level.  Participants will role-play the lives of people living in poverty\, and will have the task of providing for basic necessities and shelter on a limited budget during four 15-minute “weeks.” \nThe guest speaker is the Honorable Drayton Nabers\, Jr. \nYou can register online for this event here. \nNote: This event counts for 3.5 hours of MCLE credit. \n  \nSponsoring organizations: \n\nAlabama State Bar Pro Bono Celebration Task Force\nCumberland School of Law\nSamford University
URL:https://alabar.lbcdev.com/event/poverty-simulation-seminar-birmingham/
LOCATION:Cumberland School of Law (Great Room)\, 800 Lakeshore Drive\, Birmingham\, AL\, United States
CATEGORIES:Pro Bono Month,Public Events
ORGANIZER;CN="Cumberland School of Law":MAILTO:ccmc@samford.edu
END:VEVENT
BEGIN:VEVENT
DTSTART;TZID=America/Chicago:20141009T160000
DTEND;TZID=America/Chicago:20141009T160000
DTSTAMP:20260423T020216
CREATED:20140926T212902Z
LAST-MODIFIED:20140926T212902Z
UID:5100-1412870400-1412870400@alabar.lbcdev.com
SUMMARY:Birmingham Bar Foundation 6th Annual Bocce Ball Tournament
DESCRIPTION:Proceeds raised will benefit the Legal Aid Society of Birmingham and the Birmingham Volunteer Lawyers Program. \n  \nTickets: $25 \nLaw Student Tickets: $15
URL:https://alabar.lbcdev.com/event/birmingham-bar-foundation-6th-annual-bocce-ball-tournament/
LOCATION:The Kress Building\, 301 19th Street North\, Birmingham\, AL\, 35203\, United States
CATEGORIES:Public Events
ORGANIZER;CN="Birmingham Bar Foundation":MAILTO:bbfound@bellsouth.net
END:VEVENT
BEGIN:VEVENT
DTSTART;TZID=America/Chicago:20141009T083000
DTEND;TZID=America/Chicago:20141009T120000
DTSTAMP:20260423T020216
CREATED:20140911T190423Z
LAST-MODIFIED:20140911T190423Z
UID:4764-1412843400-1412856000@alabar.lbcdev.com
SUMMARY:District Court Help Desk
DESCRIPTION:Free legal clinic for eligible clients to receive help with civil issues such as evictions\, garnishments and probate issues.  This clinic is held every Monday and Thursday in October in conjunction with Pro Bono Month. \nIf you are a lawyer interested in volunteering for this event\, please contact Nancy Yarbrough via email at nyarbrough@vlpbirmingham.org. \nNote: CLE is not available for this event. \n  \nSponsoring organization: \n\nBirmingham Bar Volunteer Lawyers Program
URL:https://alabar.lbcdev.com/event/district-court-help-desk-3/
LOCATION:Jefferson County Courthouse (Fifth Floor)\, 716 Richard Arrington Jr. Blvd N.\, Birmingham\, AL\, United States
CATEGORIES:Pro Bono Month,Public Events
END:VEVENT
BEGIN:VEVENT
DTSTART;TZID=America/Chicago:20141008T083000
DTEND;TZID=America/Chicago:20141008T120000
DTSTAMP:20260423T020216
CREATED:20140910T204301Z
LAST-MODIFIED:20140910T204301Z
UID:4751-1412757000-1412769600@alabar.lbcdev.com
SUMMARY:Domestic Relations Help Desk
DESCRIPTION:Free legal clinic for eligible clients to receive help with domestic relations and family law legal issues.  This clinic is held every Wednesday in October in conjunction with Pro Bono Month. \nIf you are a lawyer interested in volunteering for this event\, please contact Nancy Yarbrough via email at nyarbrough@vlpbirmingham.org. \nNote: CLE is not available for this event. \n  \nSponsoring organization: \n\nBirmingham Bar Volunteer Lawyers Program
URL:https://alabar.lbcdev.com/event/domestic-relations-help-desk-2/
LOCATION:Jefferson County Domestic Relations Courthouse (First Floor)\, 2124 7th Avenue N.\, Birmingham\, AL\, United States
CATEGORIES:Pro Bono Month,Public Events
END:VEVENT
BEGIN:VEVENT
DTSTART;TZID=America/Chicago:20141007T150000
DTEND;TZID=America/Chicago:20141007T173000
DTSTAMP:20260423T020216
CREATED:20140911T193719Z
LAST-MODIFIED:20140911T193719Z
UID:4774-1412694000-1412703000@alabar.lbcdev.com
SUMMARY:Montgomery Legal Assistance Clinic
DESCRIPTION:Get answers to your legal questions at the Montgomery County Bar Counsel and Advice Clinic.  The clinic is open to the public and does not require an appointment.  Local lawyers will provide free legal advice to those who cannot afford legal assistance. \nNote: This event is not eligible for MCLE credit. \n  \nSponsoring organizations: \n\nMontgomery County Bar Volunteer Lawyers Program\nCommunity Action
URL:https://alabar.lbcdev.com/event/montgomery-legal-assistance-clinic/
LOCATION:Community Action Headstart Building\, 1100 Adams Avenue\, Montgomery\, AL\, United States
CATEGORIES:Pro Bono Month,Public Events
END:VEVENT
END:VCALENDAR