BEGIN:VCALENDAR
VERSION:2.0
PRODID:-//Alabama State Bar - ECPv6.15.20//NONSGML v1.0//EN
CALSCALE:GREGORIAN
METHOD:PUBLISH
X-ORIGINAL-URL:https://alabar.lbcdev.com
X-WR-CALDESC:Events for Alabama State Bar
REFRESH-INTERVAL;VALUE=DURATION:PT1H
X-Robots-Tag:noindex
X-PUBLISHED-TTL:PT1H
BEGIN:VTIMEZONE
TZID:America/Chicago
BEGIN:DAYLIGHT
TZOFFSETFROM:-0600
TZOFFSETTO:-0500
TZNAME:CDT
DTSTART:20170312T080000
END:DAYLIGHT
BEGIN:STANDARD
TZOFFSETFROM:-0500
TZOFFSETTO:-0600
TZNAME:CST
DTSTART:20171105T070000
END:STANDARD
BEGIN:DAYLIGHT
TZOFFSETFROM:-0600
TZOFFSETTO:-0500
TZNAME:CDT
DTSTART:20180311T080000
END:DAYLIGHT
BEGIN:STANDARD
TZOFFSETFROM:-0500
TZOFFSETTO:-0600
TZNAME:CST
DTSTART:20181104T070000
END:STANDARD
BEGIN:DAYLIGHT
TZOFFSETFROM:-0600
TZOFFSETTO:-0500
TZNAME:CDT
DTSTART:20190310T080000
END:DAYLIGHT
BEGIN:STANDARD
TZOFFSETFROM:-0500
TZOFFSETTO:-0600
TZNAME:CST
DTSTART:20191103T070000
END:STANDARD
BEGIN:DAYLIGHT
TZOFFSETFROM:-0600
TZOFFSETTO:-0500
TZNAME:CDT
DTSTART:20200308T080000
END:DAYLIGHT
BEGIN:STANDARD
TZOFFSETFROM:-0500
TZOFFSETTO:-0600
TZNAME:CST
DTSTART:20201101T070000
END:STANDARD
END:VTIMEZONE
BEGIN:VEVENT
DTSTART;TZID=America/Chicago:20191010T090000
DTEND;TZID=America/Chicago:20191010T120000
DTSTAMP:20260424T100338
CREATED:20190919T191011Z
LAST-MODIFIED:20190919T191011Z
UID:57901-1570698000-1570708800@alabar.lbcdev.com
SUMMARY:Veterans Legal Clinic
DESCRIPTION:At the Veterans Legal Clinic\, volunteer attorneys will meet with Veteran clients for initial consultations and brief advice sessions.
URL:https://alabar.lbcdev.com/event/veterans-legal-clinic-3/
LOCATION:Huntsville VA Clinic\, 500 Markview Drive\, Huntsville\, AL\, 35805\, United States
CATEGORIES:Pro Bono Month
END:VEVENT
BEGIN:VEVENT
DTSTART;TZID=America/Chicago:20191009T130000
DTEND;TZID=America/Chicago:20191009T160000
DTSTAMP:20260424T100338
CREATED:20190916T150623Z
LAST-MODIFIED:20190916T150623Z
UID:57782-1570626000-1570636800@alabar.lbcdev.com
SUMMARY:Veterans Help Desk
DESCRIPTION:Volunteer Lawyers Birmingham is committed to prioritizing legal help to veterans through special legal clinics held every month at the Veteran’s Administration Medical Clinic.
URL:https://alabar.lbcdev.com/event/veterans-help-desk-3/
LOCATION:Birmingham VA Medical Center Lobby\, 2415 7th Avenue South\, Birmingham\, AL\, 35233
CATEGORIES:Pro Bono Month
END:VEVENT
BEGIN:VEVENT
DTSTART;TZID=America/Chicago:20191009T110000
DTEND;TZID=America/Chicago:20191009T130000
DTSTAMP:20260424T100338
CREATED:20190916T151700Z
LAST-MODIFIED:20190916T151700Z
UID:57798-1570618800-1570626000@alabar.lbcdev.com
SUMMARY:Montgomery Volunteer Lawyers Program Awards Luncheon
DESCRIPTION:The Montgomery Volunteer Lawyers Program will host an Awards Luncheon to honor and recognize volunteers and firms. Awards will be presented to the most involved MVLP volunteers and firms to thank them. The Montgomery Volunteer Lawyers Program will give a year in review update and recruit new volunteers and firms.
URL:https://alabar.lbcdev.com/event/montgomery-volunteer-lawyers-program-awards-luncheon/
LOCATION:Capital City Club\, 201 Monroe Street\, Montgomery\, 36104\, United States
CATEGORIES:Pro Bono Month
END:VEVENT
BEGIN:VEVENT
DTSTART;TZID=America/Chicago:20191009T090000
DTEND;TZID=America/Chicago:20191009T150000
DTSTAMP:20260424T100338
CREATED:20191001T184039Z
LAST-MODIFIED:20191001T184039Z
UID:57982-1570611600-1570633200@alabar.lbcdev.com
SUMMARY:Wills For Heroes and Senior Citizen Wills Clinic
DESCRIPTION:Volunteer attorneys with assistance from law students from Cumberland School of Law will be creating and executing Wills\, Powers of Attorney and Healthcare Directives for first responders and seniors 60 and older. This event is being held at the Bessemer Justice Center 1851 2nd Avenue North\, Bessemer\, AL To register call Cumberland School of Law Public Interest Program at (205) 726-4342.
URL:https://alabar.lbcdev.com/event/wills-for-heroes-and-senior-citizen-wills-clinic/
LOCATION:Bessemer Justice Center\, 1851 2nd Avenue North\, Bessemer\, AL\, 35020
CATEGORIES:Home,Pro Bono Month
END:VEVENT
BEGIN:VEVENT
DTSTART;TZID=America/Chicago:20191008T130000
DTEND;TZID=America/Chicago:20191008T150000
DTSTAMP:20260424T100338
CREATED:20190916T193930Z
LAST-MODIFIED:20190916T193930Z
UID:57857-1570539600-1570546800@alabar.lbcdev.com
SUMMARY:Intake Hour at Franklin Primary Health Center
DESCRIPTION:Members of the public can meet with South Alabama Volunteer Lawyers program staff at Franklin Primary Health Center Medical Fair to apply for services. This event is held each Tuesday in the month of October from 1:00 pm to 3:00 pm.
URL:https://alabar.lbcdev.com/event/intake-hour-at-franklin-primary-health-center-2/
LOCATION:Franklin Primary Health Center\, 1303 Dr. Martin Luther King Jr. Avenue\, Mobile\, AL\, 36603
CATEGORIES:Pro Bono Month
END:VEVENT
BEGIN:VEVENT
DTSTART;TZID=America/Chicago:20191008T083000
DTEND;TZID=America/Chicago:20191008T120000
DTSTAMP:20260424T100338
CREATED:20190916T150224Z
LAST-MODIFIED:20190916T150224Z
UID:57773-1570523400-1570536000@alabar.lbcdev.com
SUMMARY:Volunteer Lawyers Birmingham Civil Help Desk
DESCRIPTION:Volunteer Lawyers Birmingham provides free legal help to qualified tenants and low-income homeowners in a variety of civil legal matters including\, housing\, evictions\, foreclosures\, debt collection\, wage garnishment\, powers of attorney\, Small Claims Court issues and Wills.
URL:https://alabar.lbcdev.com/event/volunteer-lawyers-birmingham-civil-help-desk/
LOCATION:Jefferson County Courthouse (Fifth Floor)\, 716 Richard Arrington Jr. Blvd N.\, Birmingham\, AL\, United States
CATEGORIES:Pro Bono Month
END:VEVENT
BEGIN:VEVENT
DTSTART;TZID=America/Chicago:20191004T090000
DTEND;TZID=America/Chicago:20191004T110000
DTSTAMP:20260424T100338
CREATED:20190916T150047Z
LAST-MODIFIED:20190916T150047Z
UID:57771-1570179600-1570186800@alabar.lbcdev.com
SUMMARY:Bankruptcy Help Desk
DESCRIPTION:Volunteer Lawyers Birmingham Bankruptcy Help desk helps eligible clients file for bankruptcy to relieve financial burdens.
URL:https://alabar.lbcdev.com/event/bankruptcy-help-desk/
LOCATION:US Bankruptcy Courthouse\, 1800 5th Avenue N.\, Birmingham\, AL\, 35203\, United States
CATEGORIES:Pro Bono Month
END:VEVENT
BEGIN:VEVENT
DTSTART;TZID=America/Chicago:20191003T173000
DTEND;TZID=America/Chicago:20191003T190000
DTSTAMP:20260424T100338
CREATED:20190916T151039Z
LAST-MODIFIED:20190916T151039Z
UID:57786-1570123800-1570129200@alabar.lbcdev.com
SUMMARY:Pro Bono Month Kick-Off
DESCRIPTION:The Montgomery Volunteer Lawyers Program is hosting a Pro Bono Month Kick-Off Social with a drawing for the Volunteer Lawyers to celebrate.
URL:https://alabar.lbcdev.com/event/pro-bono-month-kick-off/
LOCATION:The Gin\, 9100 Eastchase Parkway\, Montgomery\, AL\, 36117
CATEGORIES:Pro Bono Month
END:VEVENT
BEGIN:VEVENT
DTSTART;TZID=America/Chicago:20191002T130000
DTEND;TZID=America/Chicago:20191002T150000
DTSTAMP:20260424T100338
CREATED:20190916T194217Z
LAST-MODIFIED:20190916T194217Z
UID:57861-1570021200-1570028400@alabar.lbcdev.com
SUMMARY:Clarke County Office Hours at United Way of Southwest Alabama
DESCRIPTION:Members of the public can meet with South Alabama Volunteer Lawyers program staff at United Way of Southwest Alabama’s Grove Hill Office. This event is held on October 2\, 2019 from 1:00 pm to 3:00 pm.
URL:https://alabar.lbcdev.com/event/clarke-county-office-hours-at-united-way-of-southwest-alabama/
LOCATION:United Way of Southwest Alabama – Grove Hill\, 118 Clark Street\, Grove Hill\, AL\, 36451
CATEGORIES:Pro Bono Month
END:VEVENT
BEGIN:VEVENT
DTSTART;TZID=America/Chicago:20191002T100000
DTEND;TZID=America/Chicago:20191002T110000
DTSTAMP:20260424T100338
CREATED:20190919T191604Z
LAST-MODIFIED:20190919T191604Z
UID:57911-1570010400-1570014000@alabar.lbcdev.com
SUMMARY:Mo Show Live with Alabama State Bar President Christy Crow – Pro Bono Month
DESCRIPTION:Alabama State Bar President Christy Crow will appear on The Mo Show Live hosted by Alabama attorney Morris Lilienthal.
URL:https://alabar.lbcdev.com/event/mo-show-live-with-alabama-state-bar-president-christy-crow-pro-bono-month/
LOCATION:Facebook Live
CATEGORIES:Pro Bono Month
END:VEVENT
BEGIN:VEVENT
DTSTART;VALUE=DATE:20191002
DTEND;VALUE=DATE:20191003
DTSTAMP:20260424T100338
CREATED:20190916T145542Z
LAST-MODIFIED:20190916T145542Z
UID:57763-1569974400-1570060799@alabar.lbcdev.com
SUMMARY:Domestic Relations Help Desk
DESCRIPTION:Volunteer Lawyers Birmingham provides free legal assistance concerning divorce\, child support or custody issues at the VLB Domestic Relations Help Desk on any Wednesday morning.
URL:https://alabar.lbcdev.com/event/domestic-relations-help-desk-5/
LOCATION:Jefferson County Domestic Relations Courthouse (First Floor)\, 2124 7th Avenue N.\, Birmingham\, AL\, United States
CATEGORIES:Pro Bono Month
END:VEVENT
BEGIN:VEVENT
DTSTART;TZID=America/Chicago:20191001T150000
DTEND;TZID=America/Chicago:20191001T170000
DTSTAMP:20260424T100338
CREATED:20190916T151429Z
LAST-MODIFIED:20190916T151429Z
UID:57794-1569942000-1569949200@alabar.lbcdev.com
SUMMARY:Montgomery VLP Advice & Counsel Clinic
DESCRIPTION:Get answers to you legal questions at the Montgomery Volunteer Lawyers Program Advice & Counsel Clinic. The clinic will be held on Tuesday\, October 1\, 2019\, at the Montgomery Community Action building 1100 Adams Avenue\, Montgomery. The clinic will open at 3:00 p.m. It is open to the public and you do not need an appointment. Local lawyers will provide free legal advice to those who cannot afford legal assistance.
URL:https://alabar.lbcdev.com/event/montgomery-vlp-advice-counsel-clinic-3/
LOCATION:Montgomery Community Action Agency\, 1100 Adams Avenue\, Montgomery\, AL\, United States
CATEGORIES:Pro Bono Month
END:VEVENT
BEGIN:VEVENT
DTSTART;TZID=America/Chicago:20191001T133000
DTEND;TZID=America/Chicago:20191001T153000
DTSTAMP:20260424T100338
CREATED:20190919T190638Z
LAST-MODIFIED:20190919T190638Z
UID:57897-1569936600-1569943800@alabar.lbcdev.com
SUMMARY:Lawyer for a Day Project
DESCRIPTION:Eligible litigants are matched with a volunteer lawyer who will provide advice and limited scope representation in certain Madison County District Civil Courts on eviction\, debt collection\, and Small Claims/ District Court civil cases.
URL:https://alabar.lbcdev.com/event/lawyer-for-a-day-project/
LOCATION:Madison County Courthouse\, 100 Northside Square\, Huntsville\, AL\, 35801
CATEGORIES:Pro Bono Month
END:VEVENT
BEGIN:VEVENT
DTSTART;TZID=America/Chicago:20191001T130000
DTEND;TZID=America/Chicago:20191001T150000
DTSTAMP:20260424T100338
CREATED:20190916T193720Z
LAST-MODIFIED:20190916T193720Z
UID:57853-1569934800-1569942000@alabar.lbcdev.com
SUMMARY:Intake Hour at Franklin Primary Health Center
DESCRIPTION:Members of the public can meet with South Alabama Volunteer Lawyers program staff at Franklin Primary Health Center Medical Fair to apply for services. This event is held each Tuesday in the month of October from 1:00 pm to 3:00 pm.
URL:https://alabar.lbcdev.com/event/intake-hour-at-franklin-primary-health-center/
LOCATION:Franklin Primary Health Center\, 1303 Dr. Martin Luther King Jr. Avenue\, Mobile\, AL\, 36603
CATEGORIES:Pro Bono Month
END:VEVENT
BEGIN:VEVENT
DTSTART;TZID=America/Chicago:20191001T090000
DTEND;TZID=America/Chicago:20191001T113000
DTSTAMP:20260424T100338
CREATED:20190916T193150Z
LAST-MODIFIED:20190916T193150Z
UID:57847-1569920400-1569929400@alabar.lbcdev.com
SUMMARY:Intake Hour at Prodisee Pantry Food Bank
DESCRIPTION:Members of the public can meet with South Alabama Volunteer Lawyers program staff at Prodisee Pantry Food Bank to apply for services. This event is held each Tuesday in the month of October.
URL:https://alabar.lbcdev.com/event/intake-hour-at-prodisee-pantry-food-bank/
LOCATION:Prodisee Pantry\, 9315 Spanish Fort Blvd.\, Spanish Fort\, AL\, 36527
CATEGORIES:Pro Bono Month
END:VEVENT
BEGIN:VEVENT
DTSTART;TZID=America/Chicago:20191001T083000
DTEND;TZID=America/Chicago:20191001T110000
DTSTAMP:20260424T100338
CREATED:20190916T145335Z
LAST-MODIFIED:20190916T145335Z
UID:57761-1569918600-1569927600@alabar.lbcdev.com
SUMMARY:Volunteer Lawyers Birmingham Woodlawn Community Help Desk
DESCRIPTION:Volunteer Lawyers Birmingham staffs a neighborhood-based help desk to assist low income people in the Woodlawn community with legal issues. This Help Desk is on the 1st Tuesday of the month from 8:30am – 11:00am at the Woodlawn Foundation\, 5529 1st Avenue South\, Birmingham\, AL 35212. \nFor more information go to https://www.vlbham.org/where-to-get-help/
URL:https://alabar.lbcdev.com/event/volunteer-lawyers-birmingham-woodlawn-community-help-desk/
LOCATION:Woodlawn Foundation\, 5529 1st Avenue South\, Birmingham\, AL\, 35212\, United States
CATEGORIES:Pro Bono Month
END:VEVENT
BEGIN:VEVENT
DTSTART;TZID=America/Chicago:20191001T080000
DTEND;TZID=America/Chicago:20191001T120000
DTSTAMP:20260424T100338
CREATED:20190916T145851Z
LAST-MODIFIED:20190916T145851Z
UID:57769-1569916800-1569931200@alabar.lbcdev.com
SUMMARY:Homeless Help Desk
DESCRIPTION:Helping homeless clients obtain identification so they can work and helping with other legal needs is a priority of Volunteer Lawyers Birmingham.
URL:https://alabar.lbcdev.com/event/homeless-help-desk-2/
LOCATION:Cooper Green Hospital Fifth Floor\, 1515 6th Avenue South\, Birmingham\, AL\, 35233
CATEGORIES:Pro Bono Month
END:VEVENT
BEGIN:VEVENT
DTSTART;VALUE=DATE:20191001
DTEND;VALUE=DATE:20191101
DTSTAMP:20260424T100338
CREATED:20191001T184648Z
LAST-MODIFIED:20191001T184648Z
UID:57986-1569888000-1572566399@alabar.lbcdev.com
SUMMARY:Alabama Supreme Court Chief Justice Tom Parker Orders October Designated as Pro Bono Month
DESCRIPTION:Alabama Supreme Court Chief Justice\, Tom Parker\, issues an ORDER that October 2019 is Designated Pro Bono Month in Alabama. He encourages all attorneys to abide by both the letter and spirit of Rule 6.1 by providing pro bono service and supporting organizations that provide legal services to person of limited means.
URL:https://alabar.lbcdev.com/event/alabama-supreme-court-chief-justice-tom-parker-orders-october-designated-as-pro-bono-month/
LOCATION:Statewide\, AL\, United States
CATEGORIES:Pro Bono Month
END:VEVENT
BEGIN:VEVENT
DTSTART;VALUE=DATE:20191001
DTEND;VALUE=DATE:20191101
DTSTAMP:20260424T100338
CREATED:20190916T151218Z
LAST-MODIFIED:20190916T151218Z
UID:57790-1569888000-1572566399@alabar.lbcdev.com
SUMMARY:Lunch with the Chief Justice
DESCRIPTION:Alabama Supreme Court Chief Justice shall host a lunch for seven members of the bar who enroll\, during Pro Bono Month\, as new members in one the the state’s Volunteer Lawyers Programs. Attendees will be selected at random. The luncheon will be held at the Heflin-Torbert Judicial Building.
URL:https://alabar.lbcdev.com/event/lunch-with-the-chief-justice-2/
LOCATION:Heflin-Torbert Judicial Building\, 300 Dexter Avenue\, Montgomery\, AL\, 36104\, United States
CATEGORIES:Home,Pro Bono Month
END:VEVENT
BEGIN:VEVENT
DTSTART;VALUE=DATE:20191001
DTEND;VALUE=DATE:20191028
DTSTAMP:20260424T100338
CREATED:20190916T152126Z
LAST-MODIFIED:20190916T152126Z
UID:57802-1569888000-1572220799@alabar.lbcdev.com
SUMMARY:ASB Pro Bono Celebration Task Force
DESCRIPTION:Alabama’s five law schools have joined together to encourage their students to take the Pro Bono Pledge during Pro Bono Month 2019. The school have joined together on a website that allows law students to commit to include time each year to render service to their communities through activities such as volunteering\, mentoring\, participating in legal clinics\, working in public interest or public service and providing legal services to those in need.
URL:https://alabar.lbcdev.com/event/asb-pro-bono-celebration-task-force/
LOCATION:Alabama State Bar\, 415 Dexter Avenue\, Montgomery\, AL\, 36104\, United States
CATEGORIES:Pro Bono Month
END:VEVENT
BEGIN:VEVENT
DTSTART;TZID=America/Chicago:20190916T150000
DTEND;TZID=America/Chicago:20190916T160000
DTSTAMP:20260424T100338
CREATED:20190916T152226Z
LAST-MODIFIED:20190916T152226Z
UID:57804-1568646000-1568649600@alabar.lbcdev.com
SUMMARY:Governor Kay Ivy Proclaims October Pro Bono Month
DESCRIPTION:Governor Kay Ivy will issue a Proclamation naming October as Pro Bono Month in Alabama.
URL:https://alabar.lbcdev.com/event/governor-kay-ivy-proclaims-october-pro-bono-month/
LOCATION:Alabama State Capitol\, 600 Dexter Ave.\, Montgomery\, AL\, 36131\, United States
CATEGORIES:Pro Bono Month
END:VEVENT
BEGIN:VEVENT
DTSTART;TZID=America/Chicago:20181115T150000
DTEND;TZID=America/Chicago:20181115T173000
DTSTAMP:20260424T100338
CREATED:20180910T162441Z
LAST-MODIFIED:20180910T162441Z
UID:50637-1542294000-1542303000@alabar.lbcdev.com
SUMMARY:Counsel and Advice Clinic Tuscaloosa
DESCRIPTION:Get answers to you legal questions at the Tuscaloosa Counsel and Advice Clinic. The clinic will be held on Thursday\, November 15\, 2018\, at the Main Branch of the Tuscaloosa County Library. The clinic will open at 3:00 p.m. It is open to the public and you do not need an appointment. Local lawyers will provide free legal advice to those who cannot afford legal assistance.
URL:https://alabar.lbcdev.com/event/counsel-and-advice-clinic-tuscaloosa-2/
LOCATION:Tuscaloosa Public Library Main Branch\, 1801 Jack Warner Parkway NE\, Tuscaloosa\, AL\, 35401\, United States
CATEGORIES:Pro Bono Month
ORGANIZER;CN="Alabama State Bar VLP":MAILTO:linda.lund@alabar.org
END:VEVENT
BEGIN:VEVENT
DTSTART;TZID=America/Chicago:20181109T100000
DTEND;TZID=America/Chicago:20181109T140000
DTSTAMP:20260424T100338
CREATED:20180920T154634Z
LAST-MODIFIED:20180920T154634Z
UID:50775-1541757600-1541772000@alabar.lbcdev.com
SUMMARY:Veterans Legal Assistance Clinic
DESCRIPTION:Volunteer attorneys\, assisted by law students\, will provide legal advice and counsel to Tuscaloosa-area veterans.
URL:https://alabar.lbcdev.com/event/veterans-legal-assistance-clinic-4/
LOCATION:Tuscaloosa VA Medical Center\, 3701 Loop Road East\, Tuscaloosa\, AL\, 35404
CATEGORIES:Pro Bono Month
END:VEVENT
BEGIN:VEVENT
DTSTART;TZID=America/Chicago:20181106T133000
DTEND;TZID=America/Chicago:20181106T163000
DTSTAMP:20260424T100338
CREATED:20180920T154426Z
LAST-MODIFIED:20180920T154426Z
UID:50770-1541511000-1541521800@alabar.lbcdev.com
SUMMARY:Campus Veterans Legal Assistance and Wills Clinic
DESCRIPTION:Volunteer attorneys\, assisted by law students\, will provide legal advice and counsel and will-drafting services to University of Alabama students\, faculty and staff who are military veterans.
URL:https://alabar.lbcdev.com/event/campus-veterans-legal-assistance-and-wills-clinic/
LOCATION:UA Department of Veteran & Military Affairs\, 3000 House Hill\, Tuscaloosa\, AL\, 35401\, United States
CATEGORIES:Pro Bono Month
END:VEVENT
BEGIN:VEVENT
DTSTART;TZID=America/Chicago:20181106T100000
DTEND;TZID=America/Chicago:20181106T130000
DTSTAMP:20260424T100338
CREATED:20180928T162445Z
LAST-MODIFIED:20180928T162445Z
UID:50848-1541498400-1541509200@alabar.lbcdev.com
SUMMARY:Wills For Heroes Clinic APOSTC Law Enforcement Academy Tuscaloosa
DESCRIPTION:Attorneys will be preparing wills\, powers of attorney and advanced directives for health care for the graduating class of the APOSTC Law Enforcement Academy.
URL:https://alabar.lbcdev.com/event/wills-for-heroes-clinic-apostc-law-enforcement-academy-tuscaloosa/
LOCATION:APOSTC Law Enforcement Academy\, 7601 R Cardinal Airport Road\, Tuscaloosa\, AL\, 35401\, United States
CATEGORIES:Pro Bono Month
END:VEVENT
BEGIN:VEVENT
DTSTART;TZID=America/Chicago:20181031T083000
DTEND;TZID=America/Chicago:20181031T120000
DTSTAMP:20260424T100338
CREATED:20180910T164514Z
LAST-MODIFIED:20180910T164514Z
UID:50665-1540974600-1540987200@alabar.lbcdev.com
SUMMARY:Birmingham Volunteer Lawyers Program Domestic Relations Help Desk
DESCRIPTION:The Birmingham Bar Volunteer lawyers Program provides free legal assistance concerning divorce\, child support or custody issues at the BBVLP Domestic Relations Help Desk on any Wednesday morning.
URL:https://alabar.lbcdev.com/event/birmingham-volunteer-lawyers-program-domestic-relations-help-desk-9/
LOCATION:AL
CATEGORIES:Pro Bono Month
END:VEVENT
BEGIN:VEVENT
DTSTART;TZID=America/Chicago:20181029T113000
DTEND;TZID=America/Chicago:20181029T130000
DTSTAMP:20260424T100338
CREATED:20180928T201718Z
LAST-MODIFIED:20180928T201718Z
UID:50865-1540812600-1540818000@alabar.lbcdev.com
SUMMARY:Volunteer Appreciation Luncheon
DESCRIPTION:The Madison County Volunteer Lawyers Program hold a luncheon on October 29\, 2018 for their “top volunteers” of the year\, the judiciary\, and the Board. It’s an invitation only event.
URL:https://alabar.lbcdev.com/event/volunteer-appreciation-luncheon/
LOCATION:AL
CATEGORIES:Pro Bono Month
END:VEVENT
BEGIN:VEVENT
DTSTART;TZID=America/Chicago:20181029T083000
DTEND;TZID=America/Chicago:20181029T120000
DTSTAMP:20260424T100338
CREATED:20180910T165122Z
LAST-MODIFIED:20180910T165122Z
UID:50681-1540801800-1540814400@alabar.lbcdev.com
SUMMARY:Birmingham Bar Volunteer Lawyers Program Civil Legal Help Desk
DESCRIPTION:The BBVLP provides free legal help to qualified tenants and low-income homeowners in a variety of civil legal matters including\, housing\, evictions\, foreclosures\, debt collection\, wage garnishment\, powers of attorney\, Small Claims Court issues and Wills.
URL:https://alabar.lbcdev.com/event/birmingham-bar-volunteer-lawyers-program-civil-legal-help-desk-12/
LOCATION:Jefferson County Courthouse (Fifth Floor)\, 716 Richard Arrington Jr. Blvd N.\, Birmingham\, AL\, United States
CATEGORIES:Pro Bono Month
END:VEVENT
BEGIN:VEVENT
DTSTART;TZID=America/Chicago:20181026T100000
DTEND;TZID=America/Chicago:20181026T120000
DTSTAMP:20260424T100338
CREATED:20180910T162817Z
LAST-MODIFIED:20180910T162817Z
UID:50639-1540548000-1540555200@alabar.lbcdev.com
SUMMARY:Law Student Pro Bono Recognition by the Board of Bar Commissioners
DESCRIPTION:Law students from each of the the state’s law schools will be recognized at the Alabama State Bar Board of Bar Commissioners (BBC) meting on Friday October 26\, 2018. Law students are nominated for this honor by their schools based on their pro bono and public service work throughout the year.
URL:https://alabar.lbcdev.com/event/law-student-pro-bono-recognition-by-the-board-of-bar-commissioners/
LOCATION:Alabama State Bar\, 415 Dexter Avenue\, Montgomery\, AL\, 36104\, United States
CATEGORIES:Pro Bono Month
ORGANIZER;CN="Alabama State Bar VLP":MAILTO:linda.lund@alabar.org
END:VEVENT
BEGIN:VEVENT
DTSTART;TZID=America/Chicago:20181025T140000
DTEND;TZID=America/Chicago:20181025T160000
DTSTAMP:20260424T100338
CREATED:20180928T162629Z
LAST-MODIFIED:20180928T162629Z
UID:50850-1540476000-1540483200@alabar.lbcdev.com
SUMMARY:Supreme Court of Alabama Pro Bono Exemplars Reception
DESCRIPTION:The Alabama Access to Justice Commission and the Supreme Court of Alabama will host a reception on Thursday\, October 25\, 2018 to recognize the recipients of the Pro Bono Exemplars.\nPro Bono Exemplars are lawyers who provide 50 or more hours of qualified pro bono legal services under RPC 6.1. \nFor more information go to the Alabama Access to Justice web site http://www.alabamaatj.org/i-can-help/recognizing-pro-bono-work/
URL:https://alabar.lbcdev.com/event/supreme-court-of-alabama-pro-bono-exemplars-reception/
LOCATION:Heflin-Torbert Judicial Building\, 300 Dexter Avenue\, Montgomery\, AL\, 36104\, United States
CATEGORIES:Pro Bono Month
END:VEVENT
END:VCALENDAR