BEGIN:VCALENDAR
VERSION:2.0
PRODID:-//Alabama State Bar - ECPv6.15.20//NONSGML v1.0//EN
CALSCALE:GREGORIAN
METHOD:PUBLISH
X-ORIGINAL-URL:https://alabar.lbcdev.com
X-WR-CALDESC:Events for Alabama State Bar
REFRESH-INTERVAL;VALUE=DURATION:PT1H
X-Robots-Tag:noindex
X-PUBLISHED-TTL:PT1H
BEGIN:VTIMEZONE
TZID:America/Chicago
BEGIN:DAYLIGHT
TZOFFSETFROM:-0600
TZOFFSETTO:-0500
TZNAME:CDT
DTSTART:20180311T080000
END:DAYLIGHT
BEGIN:STANDARD
TZOFFSETFROM:-0500
TZOFFSETTO:-0600
TZNAME:CST
DTSTART:20181104T070000
END:STANDARD
BEGIN:DAYLIGHT
TZOFFSETFROM:-0600
TZOFFSETTO:-0500
TZNAME:CDT
DTSTART:20190310T080000
END:DAYLIGHT
BEGIN:STANDARD
TZOFFSETFROM:-0500
TZOFFSETTO:-0600
TZNAME:CST
DTSTART:20191103T070000
END:STANDARD
BEGIN:DAYLIGHT
TZOFFSETFROM:-0600
TZOFFSETTO:-0500
TZNAME:CDT
DTSTART:20200308T080000
END:DAYLIGHT
BEGIN:STANDARD
TZOFFSETFROM:-0500
TZOFFSETTO:-0600
TZNAME:CST
DTSTART:20201101T070000
END:STANDARD
BEGIN:DAYLIGHT
TZOFFSETFROM:-0600
TZOFFSETTO:-0500
TZNAME:CDT
DTSTART:20210314T080000
END:DAYLIGHT
BEGIN:STANDARD
TZOFFSETFROM:-0500
TZOFFSETTO:-0600
TZNAME:CST
DTSTART:20211107T070000
END:STANDARD
BEGIN:DAYLIGHT
TZOFFSETFROM:-0600
TZOFFSETTO:-0500
TZNAME:CDT
DTSTART:20220313T080000
END:DAYLIGHT
BEGIN:STANDARD
TZOFFSETFROM:-0500
TZOFFSETTO:-0600
TZNAME:CST
DTSTART:20221106T070000
END:STANDARD
END:VTIMEZONE
BEGIN:VEVENT
DTSTART;TZID=America/Chicago:20211026T120000
DTEND;TZID=America/Chicago:20211026T150000
DTSTAMP:20260422T025015
CREATED:20211006T152236Z
LAST-MODIFIED:20211006T152236Z
UID:62250-1635249600-1635260400@alabar.lbcdev.com
SUMMARY:Mercy House Clinic & Lunch Service
DESCRIPTION:Volunteer lawyers help serve lunch to the Washington Park community and answer questions about civil legal matters. \nContact jbrown@montgomeryvlp.org to register.
URL:https://alabar.lbcdev.com/event/mercy-house-clinic-lunch-service/
LOCATION:Mercy House\, 2421 Counsil Street\, Montgomery\, AL\, 36108\, United States
CATEGORIES:Pro Bono Month
END:VEVENT
BEGIN:VEVENT
DTSTART;TZID=America/Chicago:20211026T120000
DTEND;TZID=America/Chicago:20211026T124500
DTSTAMP:20260422T025015
CREATED:20211004T191403Z
LAST-MODIFIED:20211004T191403Z
UID:62158-1635249600-1635252300@alabar.lbcdev.com
SUMMARY:Pro Bono Month Book Club
DESCRIPTION:The Pro Bono Month Celebration Task Force is launching the inaugural Pro Bono Book Club. The book club discussions would take place via Zoom from 12:00 p.m. to 12:45 p.m. on Tuesdays in October. This year’s book selection is “A Knock at Midnight” by Brittany Barnett. It is a moving and fantastic read. Task Force members hope this kind of sharing will lead to an expanded dialogue among participants and even non-participants of the book club about pro bono services. \nTo join the book club discussion follow this Zoom link https://samford-edu.zoom.us/j/93744646276?pwd=Tm9TY20rNUUwQ1Q3ZHhoT2p3K0p3QT09
URL:https://alabar.lbcdev.com/event/pro-bono-month-book-club-4/
LOCATION:Zoom Meeting
CATEGORIES:Pro Bono Month
END:VEVENT
BEGIN:VEVENT
DTSTART;TZID=America/Chicago:20211026T100000
DTEND;TZID=America/Chicago:20211026T140000
DTSTAMP:20260422T025015
CREATED:20211006T150040Z
LAST-MODIFIED:20211006T150040Z
UID:62216-1635242400-1635256800@alabar.lbcdev.com
SUMMARY:ASB VLP Senior Wills Clinic
DESCRIPTION:Lawyers will provide seniors age 65 and older with a will\, power of attorney\, and advanced health care directive.
URL:https://alabar.lbcdev.com/event/asb-vlp-senior-wills-clinic/
LOCATION:Dr. Michael and Catherine Bullock Community and Recreational Center\, 1428 Broad Street\, Selma\, AL\, 36701\, United States
CATEGORIES:Pro Bono Month
ORGANIZER;CN="Alabama State Bar VLP":MAILTO:linda.lund@alabar.org
END:VEVENT
BEGIN:VEVENT
DTSTART;TZID=America/Chicago:20211022T120000
DTEND;TZID=America/Chicago:20211022T130000
DTSTAMP:20260422T025015
CREATED:20211006T145656Z
LAST-MODIFIED:20211006T145656Z
UID:62210-1634904000-1634907600@alabar.lbcdev.com
SUMMARY:Virtual Mediation Tips for Lawyers and Mediators
DESCRIPTION:The COVID pandemic has had a profound impact on virtually everyone\, and lawyers are no different. Mediation is just one of the areas in which our practices have been significantly affected. While some of the COVID consequences were temporary\, the ability to gather virtually or remotely is here to stay. Join experienced attorney/mediators Harold Stephens and Cooper Shattuck as they provide tips for lawyers and mediators on virtual mediations. \nWhen: Oct 22\, 2021 12:00 PM Central Time (US and Canada) \nRegister in advance for this free CLE event:\nhttps://us06web.zoom.us/meeting/register/tZAqdOurrzsjHdak0JzVcJ3qjIOigO8u0Qbj \nAfter registering\, you will receive a confirmation email containing information about joining the meeting. \nPlease register by October 19\, 2021. This course has been approved by the Alabama State Bar for 60 minutes of MCLE credit. \nThis program is being sponsored by the Dispute Resolution Section of the Mobile Bar Association\, the Alabama Center for Dispute Resolution\, and the Dispute Resolution Section of the Alabama State Bar. \nAbout our speakers \nHarold Stephens: Harold is a Partner with Bradley Arant Boult Cummings LLP. He has extensive experience in healthcare litigation in addition to business and commercial disputes. Harold earned his J.D. from the University of Alabama in 1980. He earned his B.A. from the University of Alabama in 1976 where he graduated summa cum laude. Harold has served as the Chair of the Alabama Supreme Court Commission on Dispute Resolution. He is a registered mediator with the Alabama Center for Dispute Resolution. \nCooper Shattuck: Cooper has over 27 years in virtually every facet of the practice of law. He uses his diverse practice experience to turn legal issues into opportunities in the areas of personal\, small business\, and nonprofit law; corporate general counsel; lawyer discipline; complex litigation; alternative dispute resolution; higher education; environmental law; and government relations and ethics. He operates Alabama Mediation Training where he prepares mediators for civil as well as domestic mediation practices. Cooper earned his J.D. from the University of Alabama in 1990. He earned his B.S. from the Georgia Institute of Technology. He currently serves on the Alabama Supreme Court Commission on Dispute Resolution and he is a registered mediator with the Alabama Center for Dispute Resolution.
URL:https://alabar.lbcdev.com/event/virtual-mediation-tips-for-lawyers-and-mediators/
LOCATION:Zoom Meeting
CATEGORIES:Pro Bono Month
END:VEVENT
BEGIN:VEVENT
DTSTART;TZID=America/Chicago:20211021T150000
DTEND;TZID=America/Chicago:20211021T170000
DTSTAMP:20260422T025015
CREATED:20211006T150635Z
LAST-MODIFIED:20211006T150635Z
UID:62225-1634828400-1634835600@alabar.lbcdev.com
SUMMARY:ASB VLP Counsel and Advice Clinic
DESCRIPTION:Lawyers will provide clients with counsel and advice on civil legal issues.
URL:https://alabar.lbcdev.com/event/asb-vlp-counsel-and-advice-clinic/
LOCATION:Tuscaloosa Public Library Main Branch\, 1801 Jack Warner Parkway NE\, Tuscaloosa\, AL\, 35401\, United States
CATEGORIES:Pro Bono Month
ORGANIZER;CN="Alabama State Bar VLP":MAILTO:linda.lund@alabar.org
END:VEVENT
BEGIN:VEVENT
DTSTART;TZID=America/Chicago:20211020T173000
DTEND;TZID=America/Chicago:20211020T193000
DTSTAMP:20260422T025015
CREATED:20211006T151941Z
LAST-MODIFIED:20211006T151941Z
UID:62246-1634751000-1634758200@alabar.lbcdev.com
SUMMARY:Montgomery Volunteer Lawyers Program Volunteer Appreciation Social
DESCRIPTION:A free event hosted by the Montgomery Volunteer Lawyers Program for current volunteer attorneys and attorneys interested in learning more about the program.
URL:https://alabar.lbcdev.com/event/montgomery-volunteer-lawyers-program-volunteer-appreciation-social/
LOCATION:The Gin\, 9100 Eastchase Parkway\, Montgomery\, AL\, 36117
CATEGORIES:Pro Bono Month
END:VEVENT
BEGIN:VEVENT
DTSTART;TZID=America/Chicago:20211019T170000
DTEND;TZID=America/Chicago:20211019T190000
DTSTAMP:20260422T025015
CREATED:20211004T203903Z
LAST-MODIFIED:20211004T203903Z
UID:62191-1634662800-1634670000@alabar.lbcdev.com
SUMMARY:The Black Belt Law Group Pro Bono Month Educational Service Event
DESCRIPTION:Join John Stamps of the Black Belt Law Group at this motivational event addressing Jr. High School students about the importance of maintaining a good attitude\, making good grades and setting goals.
URL:https://alabar.lbcdev.com/event/the-black-belt-law-group-pro-bono-month-educational-service-event/
LOCATION:Livingston Junior High School\, 1351 North Washington Street\, Livingston\, AL\, 35470\, United States
CATEGORIES:Pro Bono Month
END:VEVENT
BEGIN:VEVENT
DTSTART;TZID=America/Chicago:20211019T120000
DTEND;TZID=America/Chicago:20211019T124500
DTSTAMP:20260422T025015
CREATED:20211004T191250Z
LAST-MODIFIED:20211004T191250Z
UID:62156-1634644800-1634647500@alabar.lbcdev.com
SUMMARY:Pro Bono Month Book Club
DESCRIPTION:The Pro Bono Month Celebration Task Force is launching the inaugural Pro Bono Book Club. The book club discussions would take place via Zoom from 12:00 p.m. to 12:45 p.m. on Tuesdays in October. This year’s book selection is “A Knock at Midnight” by Brittany Barnett. It is a moving and fantastic read. Task Force members hope this kind of sharing will lead to an expanded dialogue among participants and even non-participants of the book club about pro bono services. \nTo join the book club discussion follow this Zoom link https://samford-edu.zoom.us/j/93744646276?pwd=Tm9TY20rNUUwQ1Q3ZHhoT2p3K0p3QT09
URL:https://alabar.lbcdev.com/event/pro-bono-month-book-club-3/
LOCATION:Zoom Meeting
CATEGORIES:Pro Bono Month
END:VEVENT
BEGIN:VEVENT
DTSTART;VALUE=DATE:20211019
DTEND;VALUE=DATE:20211020
DTSTAMP:20260422T025015
CREATED:20211006T151839Z
LAST-MODIFIED:20211006T151839Z
UID:62243-1634601600-1634687999@alabar.lbcdev.com
SUMMARY:Advice and Counsel Clinic
DESCRIPTION:Volunteer lawyers provide counsel and advice to Montgomery County residents in matters of civil law. \nContact jbrown@montgomeryvlp.org to register.
URL:https://alabar.lbcdev.com/event/advice-and-counsel-clinic-2/
LOCATION:Flatline Church\, 2938 Lower Wetumpka Road\, Montgomery\, AL\, 36110\, United States
CATEGORIES:Pro Bono Month
END:VEVENT
BEGIN:VEVENT
DTSTART;TZID=America/Chicago:20211018T093000
DTEND;TZID=America/Chicago:20211018T170000
DTSTAMP:20260422T025015
CREATED:20211006T151700Z
LAST-MODIFIED:20211006T151700Z
UID:62241-1634549400-1634576400@alabar.lbcdev.com
SUMMARY:Lawyer for a Day
DESCRIPTION:Volunteer lawyers provide legal counsel and represent indigent civil litigants in court. \nContact jbrown@montgomeryvlp.org to register.
URL:https://alabar.lbcdev.com/event/lawyer-for-a-day-4/
LOCATION:Montgomery County Courthouse\, 251 S. Lawrence Street\, Montgomery\, AL\, 36104\, United States
CATEGORIES:Pro Bono Month
END:VEVENT
BEGIN:VEVENT
DTSTART;TZID=America/Chicago:20211017T110000
DTEND;TZID=America/Chicago:20211017T140000
DTSTAMP:20260422T025015
CREATED:20211004T203700Z
LAST-MODIFIED:20211004T203700Z
UID:62188-1634468400-1634479200@alabar.lbcdev.com
SUMMARY:The Black Belt Law Group Pro Bono Month Service Event
DESCRIPTION:The Black Belt Law Group will be hosting a Free Legal Clinic and providing free wills to senior citizens. In addition there will be on site COVID Testing and vaccines provided.
URL:https://alabar.lbcdev.com/event/the-black-belt-law-group-pro-bono-month-service-event-3/
LOCATION:Mount Morian Baptist Church\, 9477 SR-69\, Sweet Water\, AL\, 36782\, United States
CATEGORIES:Pro Bono Month
END:VEVENT
BEGIN:VEVENT
DTSTART;TZID=America/Chicago:20211016T100000
DTEND;TZID=America/Chicago:20211016T120000
DTSTAMP:20260422T025015
CREATED:20211004T203504Z
LAST-MODIFIED:20211004T203504Z
UID:62185-1634378400-1634385600@alabar.lbcdev.com
SUMMARY:The Black Belt Law Group Pro Bono Month Service Event
DESCRIPTION:The Black Belt Law Group will be hosting a Free Legal Clinic and providing free wills to senior citizens. In addition there will be on site COVID Testing and vaccines provided.
URL:https://alabar.lbcdev.com/event/the-black-belt-law-group-pro-bono-month-service-event-2/
LOCATION:Paramount School\, 17404 County Road 20\, Boligee\, AL\, 35443\, United States
CATEGORIES:Pro Bono Month
END:VEVENT
BEGIN:VEVENT
DTSTART;TZID=America/Chicago:20211014T160000
DTEND;TZID=America/Chicago:20211014T180000
DTSTAMP:20260422T025015
CREATED:20211004T203239Z
LAST-MODIFIED:20211004T203239Z
UID:62181-1634227200-1634234400@alabar.lbcdev.com
SUMMARY:The Black Belt Law Group Pro Bono Month Service Event
DESCRIPTION:The Black Belt Law Group will be hosting a Free Legal Clinic and providing free wills to senior citizens. In addition there will be on site COVID Testing and vaccines provided.
URL:https://alabar.lbcdev.com/event/the-black-belt-law-group-pro-bono-month-service-event/
LOCATION:Housing Authority of Green County\, 429 Branch Heights Drive\, Eutaw\, AL\, 35462\, United States
CATEGORIES:Pro Bono Month
END:VEVENT
BEGIN:VEVENT
DTSTART;VALUE=DATE:20211014
DTEND;VALUE=DATE:20211015
DTSTAMP:20260422T025015
CREATED:20211006T151513Z
LAST-MODIFIED:20211006T151513Z
UID:62238-1634169600-1634255999@alabar.lbcdev.com
SUMMARY:Advice and Counsel Clinic
DESCRIPTION:Volunteer attorneys provide advice and counsel to Montgomery County residents in matters of civil law.
URL:https://alabar.lbcdev.com/event/advice-and-counsel-clinic/
LOCATION:Bertha Pleasant Williams Library\, 1276 Rosa L. Parks Avenue\, Montgomery\, AL\, 36108\, United States
CATEGORIES:Pro Bono Month
END:VEVENT
BEGIN:VEVENT
DTSTART;VALUE=DATE:20211014
DTEND;VALUE=DATE:20211015
DTSTAMP:20260422T025015
CREATED:20211004T201649Z
LAST-MODIFIED:20211004T201649Z
UID:62173-1634169600-1634255999@alabar.lbcdev.com
SUMMARY:Pro Bono Snapshots - Steven Rygiel
DESCRIPTION:Steven Rygiel\, Director of the Aiding Alabama Legal Program and winner of the 2021 Alabama State Bar Public Interest Pro Bono Award\, shares why pro bono matters in a short video
URL:https://alabar.lbcdev.com/event/pro-bono-snapshots-steven-rygiel/
LOCATION:Online
CATEGORIES:Pro Bono Month
END:VEVENT
BEGIN:VEVENT
DTSTART;TZID=America/Chicago:20211013T083000
DTEND;TZID=America/Chicago:20211013T100000
DTSTAMP:20260422T025015
CREATED:20211006T151330Z
LAST-MODIFIED:20211006T151330Z
UID:62236-1634113800-1634119200@alabar.lbcdev.com
SUMMARY:Donuts and Coffee at Montgomery Volunteer Lawyers Program
DESCRIPTION:Stop by the Montgomery Volunteer Lawyers Program office to celebrate Pro Bono Month with coffee and donuts!
URL:https://alabar.lbcdev.com/event/donuts-and-coffee-at-montgomery-volunteer-lawyers-program/
LOCATION:Montgomery VLP\, 458 South Lawrence Street\, Montgomery\, AL\, 36104\, United States
CATEGORIES:Pro Bono Month
END:VEVENT
BEGIN:VEVENT
DTSTART;TZID=America/Chicago:20211012T120000
DTEND;TZID=America/Chicago:20211012T124500
DTSTAMP:20260422T025015
CREATED:20211004T191118Z
LAST-MODIFIED:20211004T191118Z
UID:62154-1634040000-1634042700@alabar.lbcdev.com
SUMMARY:Pro Bono Month Book Club
DESCRIPTION:The Pro Bono Month Celebration Task Force is launching the inaugural Pro Bono Book Club. The book club discussions would take place via Zoom from 12:00 p.m. to 12:45 p.m. on Tuesdays in October. This year’s book selection is “A Knock at Midnight” by Brittany Barnett. It is a moving and fantastic read. Task Force members hope this kind of sharing will lead to an expanded dialogue among participants and even non-participants of the book club about pro bono services. \nTo join the book club discussion follow this Zoom link https://samford-edu.zoom.us/j/93744646276?pwd=Tm9TY20rNUUwQ1Q3ZHhoT2p3K0p3QT09
URL:https://alabar.lbcdev.com/event/pro-bono-month-book-club-2/
LOCATION:Zoom Meeting
CATEGORIES:Pro Bono Month
END:VEVENT
BEGIN:VEVENT
DTSTART;TZID=America/Chicago:20211012T090000
DTEND;TZID=America/Chicago:20211012T170000
DTSTAMP:20260422T025015
CREATED:20211006T151233Z
LAST-MODIFIED:20211006T151233Z
UID:62234-1634029200-1634058000@alabar.lbcdev.com
SUMMARY:Lawyer for a Day
DESCRIPTION:Volunteer lawyers provide legal counsel and represent indigent civil litigants in court. \nContact jbrown@montgomeryvlp.org to register.
URL:https://alabar.lbcdev.com/event/lawyer-for-a-day-3/
LOCATION:Montgomery County Courthouse\, 251 S. Lawrence Street\, Montgomery\, AL\, 36104\, United States
CATEGORIES:Pro Bono Month
END:VEVENT
BEGIN:VEVENT
DTSTART;TZID=America/Chicago:20211012T090000
DTEND;TZID=America/Chicago:20211012T130000
DTSTAMP:20260422T025015
CREATED:20211006T150244Z
LAST-MODIFIED:20211006T150244Z
UID:62220-1634029200-1634043600@alabar.lbcdev.com
SUMMARY:ASB VLP Senior Wills Clinic
DESCRIPTION:Lawyers will provide seniors age 65 and older with a will\, power of attorney\, and advanced health care directive.
URL:https://alabar.lbcdev.com/event/asb-vlp-senior-wills-clinic-2/
LOCATION:Rose Hill Senior Center\, 401 South Appletree Street\, Dothan\, AL\, 36301\, United States
CATEGORIES:Pro Bono Month
ORGANIZER;CN="Alabama State Bar VLP":MAILTO:linda.lund@alabar.org
END:VEVENT
BEGIN:VEVENT
DTSTART;TZID=America/Chicago:20211007T170000
DTEND;TZID=America/Chicago:20211007T183000
DTSTAMP:20260422T025015
CREATED:20211006T151005Z
LAST-MODIFIED:20211006T151005Z
UID:62228-1633626000-1633631400@alabar.lbcdev.com
SUMMARY:Montgomery Volunteer Lawyers Program Open House
DESCRIPTION:Visit the Montgomery VLP’s new office\, meet our staff\, and enjoy light appetizers and drinks.
URL:https://alabar.lbcdev.com/event/montgomery-volunteer-lawyers-program-open-house/
LOCATION:Montgomery VLP\, 458 South Lawrence Street\, Montgomery\, AL\, 36104\, United States
CATEGORIES:Pro Bono Month
END:VEVENT
BEGIN:VEVENT
DTSTART;TZID=America/Chicago:20211007T090000
DTEND;TZID=America/Chicago:20211007T170000
DTSTAMP:20260422T025015
CREATED:20211006T151121Z
LAST-MODIFIED:20211006T151121Z
UID:62232-1633597200-1633626000@alabar.lbcdev.com
SUMMARY:Lawyer for a Day
DESCRIPTION:Volunteer lawyers provide legal counsel and represent indigent civil litigants in court. \nContact jbrown@montgomeryvlp.org to register!
URL:https://alabar.lbcdev.com/event/lawyer-for-a-day-2/
LOCATION:Online
CATEGORIES:Pro Bono Month
END:VEVENT
BEGIN:VEVENT
DTSTART;TZID=America/Chicago:20211007T090000
DTEND;TZID=America/Chicago:20211007T160000
DTSTAMP:20260422T025015
CREATED:20211006T150515Z
LAST-MODIFIED:20211006T150515Z
UID:62223-1633597200-1633622400@alabar.lbcdev.com
SUMMARY:ASB VLP Wills for Heroes Clinic
DESCRIPTION:Lawyers will provide first responders with a will\, power of attorney\, and an advanced health care directive.
URL:https://alabar.lbcdev.com/event/asb-vlp-wills-for-heroes-clinic/
LOCATION:City of Vestavia Hill Municipal Center\, 1032 Montgomery Highway\, Vestavia Hills\, AL\, 35216\, United States
CATEGORIES:Pro Bono Month
ORGANIZER;CN="Alabama State Bar VLP":MAILTO:linda.lund@alabar.org
END:VEVENT
BEGIN:VEVENT
DTSTART;VALUE=DATE:20211007
DTEND;VALUE=DATE:20211008
DTSTAMP:20260422T025015
CREATED:20211004T194821Z
LAST-MODIFIED:20211004T194821Z
UID:62167-1633564800-1633651199@alabar.lbcdev.com
SUMMARY:Pro Bono Snapshots - L. Thomas Ryan
DESCRIPTION:L. Thomas Ryan\, 2021 Albert L. Vreeland Award winner\, shares why pro bono matters in a short video.
URL:https://alabar.lbcdev.com/event/pro-bono-snapshots-l-thomas-ryan/
LOCATION:Alabama State Bar\, 415 Dexter Avenue\, Montgomery\, AL\, 36104\, United States
CATEGORIES:Pro Bono Month
END:VEVENT
BEGIN:VEVENT
DTSTART;TZID=America/Chicago:20211005T120000
DTEND;TZID=America/Chicago:20211005T124500
DTSTAMP:20260422T025015
CREATED:20211004T190746Z
LAST-MODIFIED:20211004T190746Z
UID:62151-1633435200-1633437900@alabar.lbcdev.com
SUMMARY:Pro Bono Month Book Club
DESCRIPTION:The Pro Bono Month Celebration Task Force is launching the inaugural Pro Bono Book Club. The book club discussions would take place via Zoom from 12:00 p.m. to 12:45 p.m. on Tuesdays in October. This year’s book selection is “A Knock at Midnight” by Brittany Barnett. It is a moving and fantastic read. Task Force members hope this kind of sharing will lead to an expanded dialogue among participants and even non-participants of the book club about pro bono services. \nTo join the book club via Zoom https://samford-edu.zoom.us/j/93744646276?pwd=Tm9TY20rNUUwQ1Q3ZHhoT2p3K0p3QT09
URL:https://alabar.lbcdev.com/event/pro-bono-month-book-club/
LOCATION:Zoom Meeting
CATEGORIES:Pro Bono Month
END:VEVENT
BEGIN:VEVENT
DTSTART;VALUE=DATE:20211001
DTEND;VALUE=DATE:20211025
DTSTAMP:20260422T025015
CREATED:20211004T194533Z
LAST-MODIFIED:20211004T194533Z
UID:62163-1633046400-1635119999@alabar.lbcdev.com
SUMMARY:Law Student Pro Bono Pledge
DESCRIPTION:Alabama’s five law schools have joined together to encourage their students to take the Pro Bono Pledge during Pro Bono Month 2021. The school have joined together on a website that allows law students to commit to include time each year to render service to their communities through activities such as volunteering\, mentoring\, participating in legal clinics\, working in public interest or public service and providing legal services to those in need. \nThe law schools compete to see which school will have the highest percentage of first year student take the Pro Bono Pledge.
URL:https://alabar.lbcdev.com/event/law-student-pro-bono-pledge/
LOCATION:Online
CATEGORIES:Pro Bono Month
END:VEVENT
BEGIN:VEVENT
DTSTART;VALUE=DATE:20211001
DTEND;VALUE=DATE:20211002
DTSTAMP:20260422T025015
CREATED:20211004T191709Z
LAST-MODIFIED:20211004T191709Z
UID:62160-1633046400-1633132799@alabar.lbcdev.com
SUMMARY:Lunch with the Chief Justice
DESCRIPTION:Alabama Supreme Court Chief Justice shall host a lunch for seven members of the bar who enroll\, during Pro Bono Month\, October\, as a new members in one the the states Volunteer Lawyers Programs. \nAttorneys can enroll in the Volunteer Lawyers Program by following this link https://www.alabar.org/programs/volunteer-lawyers-program/enrollment/form/ \nAttendees will be selected at random. The luncheon will be held at the Heflin-Torbert Judicial Building in November.
URL:https://alabar.lbcdev.com/event/lunch-with-the-chief-justice-3/
LOCATION:Online
CATEGORIES:Pro Bono Month
END:VEVENT
BEGIN:VEVENT
DTSTART;VALUE=DATE:20210901
DTEND;VALUE=DATE:20211002
DTSTAMP:20260422T025015
CREATED:20211004T180843Z
LAST-MODIFIED:20211004T180843Z
UID:62147-1630454400-1633132799@alabar.lbcdev.com
SUMMARY:Pro Bono Month Book Club Registration
DESCRIPTION:The Pro Bono Month Celebration Task Force is launching the inaugural Pro Bono Book Club. The book club discussions would take place via Zoom from 12:00 p.m. to 12:45 p.m. on Tuesdays in October and reading may start as early as you’d like. This year’s book selection is “A Knock at Midnight” by Brittany Barnett. It is a moving and fantastic read. Task Force members hope this kind of sharing will lead to an expanded dialogue among participants and even non-participants of the book club about pro bono services. To register for the book club follow this link https://docs.google.com/spreadsheets/d/1ogNuz7l_D71ifD2QEiBWdGeLyFFhayQsBXZIVEjiRZc/edit?usp=sharing \nYou can join in book club discussions each Tuesday in October at this link https://samford-edu.zoom.us/j/93744646276?pwd=Tm9TY20rNUUwQ1Q3ZHhoT2p3K0p3QT09 \nOn October 27\, 2021 at 4pmET/3pmCT\, join the ABA Standing Committee on Pro Bono and Public Service for a complimentary webinar discussion with Brittany K. Barnett\, Author of “A Knock at Midnight”.
URL:https://alabar.lbcdev.com/event/pro-bono-month-book-club-registration/
LOCATION:Online
CATEGORIES:Pro Bono Month
END:VEVENT
BEGIN:VEVENT
DTSTART;TZID=America/Chicago:20191121T150000
DTEND;TZID=America/Chicago:20191121T170000
DTSTAMP:20260422T025015
CREATED:20190916T182619Z
LAST-MODIFIED:20190916T182619Z
UID:57821-1574348400-1574355600@alabar.lbcdev.com
SUMMARY:Counsel and Advice Clinic Tuscaloosa
DESCRIPTION:Get answers to you legal questions at the Tuscaloosa Counsel and Advice Clinic. The clinic will be held on Thursday\, November 21\, 20198\, at the Main Branch of the Tuscaloosa County Library. The clinic will open at 3:00 p.m. It is open to the public and you do not need an appointment. Local lawyers will provide free legal advice to those who cannot afford legal assistance.
URL:https://alabar.lbcdev.com/event/counsel-and-advice-clinic-tuscaloosa-4/
LOCATION:Tuscaloosa Public Library Main Branch\, 1801 Jack Warner Parkway NE\, Tuscaloosa\, AL\, 35401\, United States
CATEGORIES:Home,Pro Bono Month
ORGANIZER;CN="Alabama State Bar VLP":MAILTO:linda.lund@alabar.org
END:VEVENT
BEGIN:VEVENT
DTSTART;TZID=America/Chicago:20191108T100000
DTEND;TZID=America/Chicago:20191108T140000
DTSTAMP:20260422T025015
CREATED:20191017T160825Z
LAST-MODIFIED:20191017T160825Z
UID:58069-1573207200-1573221600@alabar.lbcdev.com
SUMMARY:Veterans Legal Assistance Clinic
DESCRIPTION:Volunteer attorneys\, assisted by law students\, will provide legal advice and counsel to Tuscaloosa-area veterans. \nSponsored by University of Alabama School of Law\, Tuscaloosa V.A. Medical Center\, Tuscaloosa County Bar Association
URL:https://alabar.lbcdev.com/event/veterans-legal-assistance-clinic-5/
LOCATION:Tuscaloosa VA Medical Center\, 3701 Loop Road East\, Tuscaloosa\, AL\, 35404
CATEGORIES:Pro Bono Month
END:VEVENT
BEGIN:VEVENT
DTSTART;TZID=America/Chicago:20191107T173000
DTEND;TZID=America/Chicago:20191107T203000
DTSTAMP:20260422T025015
CREATED:20180928T202922Z
LAST-MODIFIED:20180928T202922Z
UID:50882-1573147800-1573158600@alabar.lbcdev.com
SUMMARY:Pro Hops Vino
DESCRIPTION:Volunteer Lawyers Birmingham’s premier annual wine and beer tasting event serves both as a fundraiser and as a recognition of our supporters and volunteer attorneys.
URL:https://alabar.lbcdev.com/event/pro-hops-vino-4/
LOCATION:Birmingham Botanical Gardens\, 2612 Lane Park Road\, Birmingham\, AL\, 35233\, United States
CATEGORIES:Pro Bono Month
END:VEVENT
END:VCALENDAR