BEGIN:VCALENDAR
VERSION:2.0
PRODID:-//Alabama State Bar - ECPv6.15.20//NONSGML v1.0//EN
CALSCALE:GREGORIAN
METHOD:PUBLISH
X-ORIGINAL-URL:https://alabar.lbcdev.com
X-WR-CALDESC:Events for Alabama State Bar
REFRESH-INTERVAL;VALUE=DURATION:PT1H
X-Robots-Tag:noindex
X-PUBLISHED-TTL:PT1H
BEGIN:VTIMEZONE
TZID:America/Chicago
BEGIN:DAYLIGHT
TZOFFSETFROM:-0600
TZOFFSETTO:-0500
TZNAME:CDT
DTSTART:20130310T080000
END:DAYLIGHT
BEGIN:STANDARD
TZOFFSETFROM:-0500
TZOFFSETTO:-0600
TZNAME:CST
DTSTART:20131103T070000
END:STANDARD
BEGIN:DAYLIGHT
TZOFFSETFROM:-0600
TZOFFSETTO:-0500
TZNAME:CDT
DTSTART:20140309T080000
END:DAYLIGHT
BEGIN:STANDARD
TZOFFSETFROM:-0500
TZOFFSETTO:-0600
TZNAME:CST
DTSTART:20141102T070000
END:STANDARD
BEGIN:DAYLIGHT
TZOFFSETFROM:-0600
TZOFFSETTO:-0500
TZNAME:CDT
DTSTART:20150308T080000
END:DAYLIGHT
BEGIN:STANDARD
TZOFFSETFROM:-0500
TZOFFSETTO:-0600
TZNAME:CST
DTSTART:20151101T070000
END:STANDARD
BEGIN:DAYLIGHT
TZOFFSETFROM:-0600
TZOFFSETTO:-0500
TZNAME:CDT
DTSTART:20160313T080000
END:DAYLIGHT
BEGIN:STANDARD
TZOFFSETFROM:-0500
TZOFFSETTO:-0600
TZNAME:CST
DTSTART:20161106T070000
END:STANDARD
BEGIN:DAYLIGHT
TZOFFSETFROM:-0600
TZOFFSETTO:-0500
TZNAME:CDT
DTSTART:20170312T080000
END:DAYLIGHT
BEGIN:STANDARD
TZOFFSETFROM:-0500
TZOFFSETTO:-0600
TZNAME:CST
DTSTART:20171105T070000
END:STANDARD
BEGIN:DAYLIGHT
TZOFFSETFROM:-0600
TZOFFSETTO:-0500
TZNAME:CDT
DTSTART:20180311T080000
END:DAYLIGHT
BEGIN:STANDARD
TZOFFSETFROM:-0500
TZOFFSETTO:-0600
TZNAME:CST
DTSTART:20181104T070000
END:STANDARD
BEGIN:DAYLIGHT
TZOFFSETFROM:-0600
TZOFFSETTO:-0500
TZNAME:CDT
DTSTART:20190310T080000
END:DAYLIGHT
BEGIN:STANDARD
TZOFFSETFROM:-0500
TZOFFSETTO:-0600
TZNAME:CST
DTSTART:20191103T070000
END:STANDARD
END:VTIMEZONE
BEGIN:VEVENT
DTSTART;TZID=America/Chicago:20181003T113000
DTEND;TZID=America/Chicago:20181003T124500
DTSTAMP:20260424T211743
CREATED:20181003T181436Z
LAST-MODIFIED:20181003T181436Z
UID:50901-1538566200-1538570700@alabar.lbcdev.com
SUMMARY:Civil Legal Assistance Panel Discussion
DESCRIPTION:A panel discussion (lunch provided) on the scope of the civil legal assistance problem in Alabama and agencies helping to solve it. Panelists: Ted Hosp\, AATCJ; Barbara Wells\, Federal PSAP; Laurel Crawford\, MVLP; Stephanie Blackburn\, LSA_Montgomery
URL:https://alabar.lbcdev.com/event/civil-legal-assistance-panel-discussion/
LOCATION:Jones School of Law\, 5345 Atlanta Hwy\, Montgomery\, United States
CATEGORIES:Pro Bono Month
END:VEVENT
BEGIN:VEVENT
DTSTART;TZID=America/Chicago:20181003T083000
DTEND;TZID=America/Chicago:20181003T120000
DTSTAMP:20260424T211743
CREATED:20180910T164147Z
LAST-MODIFIED:20180910T164147Z
UID:50657-1538555400-1538568000@alabar.lbcdev.com
SUMMARY:Birmingham Volunteer Lawyers Program Domestic Relations Help Desk
DESCRIPTION:The Birmingham Bar Volunteer lawyers Program provides free legal assistance concerning divorce\, child support or custody issues at the BBVLP Domestic Relations Help Desk on any Wednesday morning.
URL:https://alabar.lbcdev.com/event/birmingham-volunteer-lawyers-program-domestic-relations-help-desk-5/
CATEGORIES:Pro Bono Month
END:VEVENT
BEGIN:VEVENT
DTSTART;VALUE=DATE:20181003
DTEND;VALUE=DATE:20181004
DTSTAMP:20260424T211743
CREATED:20180910T163028Z
LAST-MODIFIED:20180910T163028Z
UID:50642-1538524800-1538611199@alabar.lbcdev.com
SUMMARY:Governor Kay Ivey Proclaims October Pro Bono Month in Alabama
DESCRIPTION:Governor Kay Ivey will issue a Proclamation naming October as Pro Bono Month in Alabama.
URL:https://alabar.lbcdev.com/event/governor-kay-ivey-proclaims-october-pro-bono-month-in-alabama/
LOCATION:Alabama State Capitol\, 600 Dexter Ave.\, Montgomery\, AL\, 36131\, United States
CATEGORIES:Pro Bono Month
END:VEVENT
BEGIN:VEVENT
DTSTART;TZID=America/Chicago:20181002T150000
DTEND;TZID=America/Chicago:20181002T170000
DTSTAMP:20260424T211743
CREATED:20180910T163442Z
LAST-MODIFIED:20180910T163442Z
UID:50648-1538492400-1538499600@alabar.lbcdev.com
SUMMARY:Montogmery VLP Advice & Counsel Clinic
DESCRIPTION:Get answers to you legal questions at the Montgomery Volunteer Lawyers Program Advice & Counsel Clinic. The clinic will be held on Tuesday\, October 2\, 2018\, at the Montgomery Community Action building 1100 Adams Avenue\, Montgomery. The clinic will open at 3:00 p.m. It is open to the public and you do not need an appointment. Local lawyers will provide free legal advice to those who cannot afford legal assistance.
URL:https://alabar.lbcdev.com/event/montogmery-vlp-advice-counsel-clinic/
LOCATION:Montgomery Community Action Agency\, 1100 Adams Avenue\, Montgomery\, AL\, United States
CATEGORIES:Pro Bono Month
END:VEVENT
BEGIN:VEVENT
DTSTART;TZID=America/Chicago:20181002T083000
DTEND;TZID=America/Chicago:20181002T120000
DTSTAMP:20260424T211743
CREATED:20180928T202434Z
LAST-MODIFIED:20180928T202434Z
UID:50874-1538469000-1538481600@alabar.lbcdev.com
SUMMARY:Volunteer lawyers Birmingham Standing with Woodlawn
DESCRIPTION:Neighborhood-based help desk to assist low income people in the Woodlawn community with legal issues.
URL:https://alabar.lbcdev.com/event/volunteer-lawyers-birmingham-standing-with-woodlawn/
LOCATION:Woodlawn Foundation\, 5529 1st Avenue South\, Birmingham\, AL\, 35212\, United States
CATEGORIES:Pro Bono Month
END:VEVENT
BEGIN:VEVENT
DTSTART;TZID=America/Chicago:20181002T083000
DTEND;TZID=America/Chicago:20181002T120000
DTSTAMP:20260424T211743
CREATED:20180910T165213Z
LAST-MODIFIED:20180910T165213Z
UID:50683-1538469000-1538481600@alabar.lbcdev.com
SUMMARY:HOMELESS HELP DESK
DESCRIPTION:Helping homeless clients obtain identification so they can work and helping with other legal needs is a priority of the BBVLP.
URL:https://alabar.lbcdev.com/event/homeless-help-desk/
LOCATION:Cooper Green Hospital Fifth Floor\, 1515 6th Avenue South\, Birmingham\, AL\, 35233
CATEGORIES:Pro Bono Month
END:VEVENT
BEGIN:VEVENT
DTSTART;VALUE=DATE:20181002
DTEND;VALUE=DATE:20181003
DTSTAMP:20260424T211743
CREATED:20180928T162958Z
LAST-MODIFIED:20180928T162958Z
UID:50856-1538438400-1538524799@alabar.lbcdev.com
SUMMARY:Cake in the Courthouse - Tuscaloosa
DESCRIPTION:Presiding Judge M. Bradley Almond\, the Tuscaloosa County Bar will celebrate the 10th Anniversary of Alabama’s Pro Bono Celebration with cake in the courthouse. Bar members are invited to stop by Judge Almond’s courtroom and join in the celebration on Tuesday October 2\, 2018.
URL:https://alabar.lbcdev.com/event/cake-in-the-courthouse-tuscaloosa/
LOCATION:Tuscaloosa County Courthouse\, 714 Greensboro Avenue\, Tuscaloosa\, AL\, 35401\, United States
CATEGORIES:Pro Bono Month
END:VEVENT
BEGIN:VEVENT
DTSTART;TZID=America/Chicago:20181001T083000
DTEND;TZID=America/Chicago:20181026T170000
DTSTAMP:20260424T211743
CREATED:20181003T181341Z
LAST-MODIFIED:20181003T181341Z
UID:50899-1538382600-1540573200@alabar.lbcdev.com
SUMMARY:Jones Public Interest Law Foundation Drive for Incarcerated Women
DESCRIPTION:Student-led service initiative to collect and distribute toiletries and other basic hygiene essentials to state and local correctional facilities housing women.
URL:https://alabar.lbcdev.com/event/jones-public-interest-law-foundation-drive-for-incarcerated-women/
LOCATION:Jones School of Law\, 5345 Atlanta Hwy\, Montgomery\, United States
CATEGORIES:Pro Bono Month
END:VEVENT
BEGIN:VEVENT
DTSTART;TZID=America/Chicago:20181001T083000
DTEND;TZID=America/Chicago:20181001T120000
DTSTAMP:20260424T211743
CREATED:20180910T164702Z
LAST-MODIFIED:20180910T164702Z
UID:50669-1538382600-1538395200@alabar.lbcdev.com
SUMMARY:Birmingham Bar Volunteer Lawyers Program Civil Legal Help Desk
DESCRIPTION:The BBVLP provides free legal help to qualified tenants and low-income homeowners in a variety of civil legal matters including\, housing\, evictions\, foreclosures\, debt collection\, wage garnishment\, powers of attorney\, Small Claims Court issues and Wills.
URL:https://alabar.lbcdev.com/event/birmingham-bar-volunteer-lawyers-program-civil-legal-help-desk-6/
LOCATION:Jefferson County Courthouse (Fifth Floor)\, 716 Richard Arrington Jr. Blvd N.\, Birmingham\, AL\, United States
CATEGORIES:Pro Bono Month
END:VEVENT
BEGIN:VEVENT
DTSTART;VALUE=DATE:20181001
DTEND;VALUE=DATE:20181101
DTSTAMP:20260424T211743
CREATED:20180925T161450Z
LAST-MODIFIED:20180925T161450Z
UID:50829-1538352000-1541030399@alabar.lbcdev.com
SUMMARY:Cumberland School of Law 2018 Profiles in Service
DESCRIPTION:Samford University\, Cumberland School of Law celebrates Pro Bono Month by recognizing\, Jeremy Thomas\, class of 2019 as a Profiles of Service honoree.
URL:https://alabar.lbcdev.com/event/cumberland-school-of-law-2018-profiles-in-service/
LOCATION:Samford University\, 800 Lakeshore Drive\, Birmingham\, AL\, 35229\, United States
CATEGORIES:Pro Bono Month
ORGANIZER;CN="Cumberland School of Law":MAILTO:ccmc@samford.edu
END:VEVENT
BEGIN:VEVENT
DTSTART;VALUE=DATE:20181001
DTEND;VALUE=DATE:20181101
DTSTAMP:20260424T211743
CREATED:20180925T160625Z
LAST-MODIFIED:20180925T160625Z
UID:50827-1538352000-1541030399@alabar.lbcdev.com
SUMMARY:University of Alabama Culverhouse School of Law 2018 Profiles in Service
DESCRIPTION:University of Alabama Culverhouse School of Law celebrates Pro Bono Month by selecting\, Anil Mujumdar\, Zarzaur Mujumdar & Debrosse and Sarah Stokes is a senior attorney at the Southern Environmental Law Center as Profiles of Service honorees.
URL:https://alabar.lbcdev.com/event/university-of-alabama-culverhouse-school-of-law-2018-profiles-in-service/
LOCATION:University of Alabama School of Law\, 101 Bryant Drive\, Tuscaloosa\, AL\, 35401\, United States
CATEGORIES:Pro Bono Month
END:VEVENT
BEGIN:VEVENT
DTSTART;VALUE=DATE:20181001
DTEND;VALUE=DATE:20181101
DTSTAMP:20260424T211743
CREATED:20180920T154834Z
LAST-MODIFIED:20180920T154834Z
UID:50777-1538352000-1541030399@alabar.lbcdev.com
SUMMARY:Faulkner University Jones School of Law 2018 Profiles in Service
DESCRIPTION:Faulkner University\, Jones School of Law celebrates Pro Bono Month by selecting\, Laurel Crawford\, Executive Director\, Montgomery Volunteer Lawyers Program and Holly Ray\, Managing Attorney\, Legal Services Alabama-Huntsville Office as Profiles of Service.
URL:https://alabar.lbcdev.com/event/faulkner-university-jones-school-of-law-2018-profiles-in-service/
LOCATION:Jones School of Law\, 5345 Atlanta Hwy\, Montgomery\, United States
CATEGORIES:Pro Bono Month
END:VEVENT
BEGIN:VEVENT
DTSTART;VALUE=DATE:20181001
DTEND;VALUE=DATE:20181101
DTSTAMP:20260424T211743
CREATED:20180910T164054Z
LAST-MODIFIED:20180910T164054Z
UID:50655-1538352000-1541030399@alabar.lbcdev.com
SUMMARY:Lunch with the Chief Justice
DESCRIPTION:Alabama Supreme Court Chief Justice Lynn Stuart shall host a lunch for seven members of the bar who enroll\, during Pro Bono Month\, as new members in one the the state’s Volunteer Lawyers Programs. Attendees will be selected at random. The luncheon will be held at the Heflin-Torbert Judicial Building.
URL:https://alabar.lbcdev.com/event/lunch-with-the-chief-justice/
LOCATION:Heflin-Torbert Judicial Building\, 300 Dexter Avenue\, Montgomery\, AL\, 36104\, United States
CATEGORIES:Pro Bono Month
END:VEVENT
BEGIN:VEVENT
DTSTART;VALUE=DATE:20181001
DTEND;VALUE=DATE:20181022
DTSTAMP:20260424T211743
CREATED:20180910T163144Z
LAST-MODIFIED:20180910T163144Z
UID:50644-1538352000-1540166399@alabar.lbcdev.com
SUMMARY:Pro Bono Pledge
DESCRIPTION:Alabama’s five law schools have joined together to encourage their students to take the Pro Bono Pledge during Pro Bono Month 2018. The school have joined together on a website that allows law students to commit to include time each year to render service to their communities through activities such as volunteering\, mentoring\, participating in legal clinics\, working in public interest or public service and providing legal services to those in need.
URL:https://alabar.lbcdev.com/event/pro-bono-pledge-4/
LOCATION:Alabama State Bar\, 415 Dexter Avenue\, Montgomery\, AL\, 36104\, United States
CATEGORIES:Pro Bono Month
END:VEVENT
BEGIN:VEVENT
DTSTART;TZID=America/Chicago:20180929T100000
DTEND;TZID=America/Chicago:20180929T140000
DTSTAMP:20260424T211743
CREATED:20180920T154542Z
LAST-MODIFIED:20180920T154542Z
UID:50773-1538215200-1538229600@alabar.lbcdev.com
SUMMARY:Habitat for Humanity Wills Clinic
DESCRIPTION:Law Students and volunteer attorneys will prepare wills and other estate planning documents for Habitat for Humanity homeowners.
URL:https://alabar.lbcdev.com/event/habitat-for-humanity-wills-clinic-2/
LOCATION:Habitat for Humanity Tuscaloosa\, 1120 35th Street\, Tuscaloosa\, AL\, 35401\, United States
CATEGORIES:Pro Bono Month
END:VEVENT
BEGIN:VEVENT
DTSTART;TZID=America/Chicago:20141031T100000
DTEND;TZID=America/Chicago:20141031T130000
DTSTAMP:20260424T211743
CREATED:20140911T201634Z
LAST-MODIFIED:20140911T201634Z
UID:4795-1414749600-1414760400@alabar.lbcdev.com
SUMMARY:Law Student Public Interest Recognition
DESCRIPTION:Students from each of the five state law schools have been selected by Alabama State Bar President Rich Raleigh to attend the Alabama State Bar Board of Bar Commissioners meeting and have lunch with the commission.  The law schools select students with involvement in public interest and pro bono efforts. \nNote: This event is not eligible for MCLE credit. \n  \nSponsoring organizations: \n\nAlabama State Bar\nAlabama State Bar Pro Bono Celebration Task Force
URL:https://alabar.lbcdev.com/event/law-student-public-interest-recognition/
LOCATION:Alabama State Bar\, 415 Dexter Avenue\, Montgomery\, AL\, United States
CATEGORIES:Pro Bono Month,Public Events
ORGANIZER;CN="Alabama State Bar VLP":MAILTO:linda.lund@alabar.org
END:VEVENT
BEGIN:VEVENT
DTSTART;TZID=America/Chicago:20141030T130000
DTEND;TZID=America/Chicago:20141030T160000
DTSTAMP:20260424T211743
CREATED:20141007T133640Z
LAST-MODIFIED:20141007T133640Z
UID:5176-1414674000-1414684800@alabar.lbcdev.com
SUMMARY:Blount County Bar Legal Clinic
DESCRIPTION:The Blount County Bar Association is sponsoring a  free legal assistance clinic that will be held at the Blount County Courthouse.   Volunteers will be available to provide legal counsel and advice on general civil legal issues.
URL:https://alabar.lbcdev.com/event/blount-county-bar-legal-clinic/
LOCATION:Blount County Courthouse\, 220 2nd Avenue E.\, Oneonta\, AL\, United States
CATEGORIES:Pro Bono Month
END:VEVENT
BEGIN:VEVENT
DTSTART;TZID=America/Chicago:20141030T083000
DTEND;TZID=America/Chicago:20141030T120000
DTSTAMP:20260424T211743
CREATED:20140911T191434Z
LAST-MODIFIED:20140911T191434Z
UID:4770-1414657800-1414670400@alabar.lbcdev.com
SUMMARY:District Court Help Desk
DESCRIPTION:Free legal clinic for eligible clients to receive help with civil issues such as evictions\, garnishments and probate issues.  This clinic is held every Monday and Thursday in October in conjunction with Pro Bono Month. \nIf you are a lawyer interested in volunteering for this event\, please contact Nancy Yarbrough via email at nyarbrough@vlpbirmingham.org. \nNote: CLE is not available for this event. \n  \nSponsoring organization: \n\nBirmingham Bar Volunteer Lawyers Program
URL:https://alabar.lbcdev.com/event/district-court-help-desk-9/
LOCATION:Jefferson County Courthouse (Fifth Floor)\, 716 Richard Arrington Jr. Blvd N.\, Birmingham\, AL\, United States
CATEGORIES:Pro Bono Month,Public Events
END:VEVENT
BEGIN:VEVENT
DTSTART;TZID=America/Chicago:20141029T130000
DTEND;TZID=America/Chicago:20141029T150000
DTSTAMP:20260424T211743
CREATED:20140910T194242Z
LAST-MODIFIED:20140910T194242Z
UID:4747-1414587600-1414594800@alabar.lbcdev.com
SUMMARY:Homeless Experience Legal Protection (HELP) Clinic
DESCRIPTION:Volunteers make a difference by spending a few hours providing legal assistance to persons experiencing homelessness.  The clinic is held every other Wednesday. \nIf you are a lawyer interested in volunteering\, please contact Lisa Borden via email at lborden@bakerdonelson.com. \nNote: CLE credit is NOT available for this event. \n  \nSponsoring Organizations: \n\nBaker\, Donelson\, Bearman\, Caldwell & Berkowitz\, P.C.\nBirmingham Bar Volunteer Lawyers Program\nCumberland School of Law
URL:https://alabar.lbcdev.com/event/homeless-experience-legal-protection-help-clinic-3/
LOCATION:Firehouse Shelter\, 1501 3rd Avenue N.\, Birmingham\, AL\, United States
CATEGORIES:Pro Bono Month,Public Events
END:VEVENT
BEGIN:VEVENT
DTSTART;TZID=America/Chicago:20141029T120000
DTEND;TZID=America/Chicago:20141029T130000
DTSTAMP:20260424T211743
CREATED:20141008T195458Z
LAST-MODIFIED:20141008T195458Z
UID:5287-1414584000-1414587600@alabar.lbcdev.com
SUMMARY:Colbert County Bar CLE
DESCRIPTION:The Colbert County Bar Association is sponsoring a CLE program on Wednesday October 29\, 2014. The speaker will be Jeanne Dowdle Rasco who will be speaking on the topic of Legal Ethics and the Pro Bono Lawyer.
URL:https://alabar.lbcdev.com/event/colbert-county-bar-cle/
LOCATION:Stephano’s Southland\, 1309 S. Jackson Hwy\, Sheffield\, AL\, United States
CATEGORIES:Pro Bono Month
END:VEVENT
BEGIN:VEVENT
DTSTART;TZID=America/Chicago:20141028T140000
DTEND;TZID=America/Chicago:20141028T140000
DTSTAMP:20260424T211743
CREATED:20140911T200748Z
LAST-MODIFIED:20140911T200748Z
UID:4791-1414504800-1414504800@alabar.lbcdev.com
SUMMARY:Turning Point Homeless Docket
DESCRIPTION:Volunteers make a difference by spending a few hours representing a deserving person who is currently experiencing homelessness in a special court designed to find alternative sentencing options. \nIf you are interested in volunteering\, please contact Lisa Borden via email at lborden@bakerdonelson.com.
URL:https://alabar.lbcdev.com/event/turning-point-homeless-docket/
LOCATION:First Light Shelter\, 2230 4th Avenue N.\, Birmingham\, AL\, United States
CATEGORIES:Pro Bono Month,Public Events
END:VEVENT
BEGIN:VEVENT
DTSTART;TZID=America/Chicago:20141028T090000
DTEND;TZID=America/Chicago:20141028T150000
DTSTAMP:20260424T211743
CREATED:20140911T201221Z
LAST-MODIFIED:20140911T201221Z
UID:4793-1414486800-1414508400@alabar.lbcdev.com
SUMMARY:Senior Citizen Wills Clinic
DESCRIPTION:Free simple wills\, health care directives and powers of attorney for seniors residing in Jefferson County. \nMembers of the public can call the Cumberland Community Mediation Center at 205-726-4342 to set up an appointment. \nNote: This event is not eligible for MCLE credit. \n  \nSponsoring organizations: \n\nCumberland School of Law\nBirmingham Bar Association
URL:https://alabar.lbcdev.com/event/senior-citizen-wills-clinic/
LOCATION:Oxmoor Valley Community Center\, 1992 Wenonah Oxmoor Road\, Birmingham\, AL\, 35211\, United States
CATEGORIES:Pro Bono Month,Public Events
ORGANIZER;CN="Cumberland School of Law":MAILTO:ccmc@samford.edu
END:VEVENT
BEGIN:VEVENT
DTSTART;TZID=America/Chicago:20141027T083000
DTEND;TZID=America/Chicago:20141027T120000
DTSTAMP:20260424T211743
CREATED:20140911T191138Z
LAST-MODIFIED:20140911T191138Z
UID:4769-1414398600-1414411200@alabar.lbcdev.com
SUMMARY:District Court Help Desk
DESCRIPTION:Free legal clinic for eligible clients to receive help with civil issues such as evictions\, garnishments and probate issues.  This clinic is held every Monday and Thursday in October in conjunction with Pro Bono Month. \nIf you are a lawyer interested in volunteering for this event\, please contact Nancy Yarbrough via email at nyarbrough@vlpbirmingham.org. \nNote: CLE is not available for this event. \n  \nSponsoring organization: \n\nBirmingham Bar Volunteer Lawyers Program
URL:https://alabar.lbcdev.com/event/district-court-help-desk-8/
LOCATION:Jefferson County Courthouse (Fifth Floor)\, 716 Richard Arrington Jr. Blvd N.\, Birmingham\, AL\, United States
CATEGORIES:Pro Bono Month,Public Events
END:VEVENT
BEGIN:VEVENT
DTSTART;TZID=America/Chicago:20141024T073000
DTEND;TZID=America/Chicago:20141024T113000
DTSTAMP:20260424T211743
CREATED:20141007T132336Z
LAST-MODIFIED:20141007T132336Z
UID:5169-1414135800-1414150200@alabar.lbcdev.com
SUMMARY:Foundations of Pro Bono Practice: Consumer & Housing Law
DESCRIPTION:Attendees will receive training in payday lending law and issues landlord/tenant law and representation and ethical representation of pro bono clients \nRegistration and other Information: \n$25 per person payable day of CLE; Lunch provided; Fee waived for 2014 ASB admittees\, law students and attorneys accepting one (1) Montgomery VLP referral in 2014. \nRegister by emailing your name\, address and firm to Kelly McTear at kmctear@faulkner.edu.
URL:https://alabar.lbcdev.com/event/foundations-pro-bono-practice-consumer-housing-law/
LOCATION:Faulkner University Jones School of Law (Room 155)\, 5345 Atlanta Hwy
CATEGORIES:Pro Bono Month
END:VEVENT
BEGIN:VEVENT
DTSTART;TZID=America/Chicago:20141023T190000
DTEND;TZID=America/Chicago:20141023T220000
DTSTAMP:20260424T211743
CREATED:20141003T164356Z
LAST-MODIFIED:20141003T164356Z
UID:5166-1414090800-1414101600@alabar.lbcdev.com
SUMMARY:Theater Production - South Alabama VLP Fundraiser
DESCRIPTION:Join us at The Mobile Theatre Guild for Tom Perez’s newest play\, “Ambushed by the Tea Party\,” a satire set during the 2018 Alabama gubernatorial campaign which targets both sides of the political aisle. This event is a fundraiser for the South Alabama Volunteer Lawyers Program. \nReception starts at 7:00 and the curtain will rise at 8:00 on this delightful production. Ticket are $35 each.
URL:https://alabar.lbcdev.com/event/theater-production-south-alabama-vlp-fundraiser/
LOCATION:Mobile Theater Guild\, 14 N. Lafayette Street\, Mobile\, AL\, United States
CATEGORIES:Pro Bono Month
END:VEVENT
BEGIN:VEVENT
DTSTART;TZID=America/Chicago:20141023T150000
DTEND;TZID=America/Chicago:20141023T173000
DTSTAMP:20260424T211743
CREATED:20140911T200305Z
LAST-MODIFIED:20140911T200305Z
UID:4788-1414076400-1414085400@alabar.lbcdev.com
SUMMARY:Tuscaloosa Legal Assistance Clinic
DESCRIPTION:Get answers to your legal questions at the Tuscaloosa Legal Assistance Clinic.  The clinic is free and open to the public.  No appointment is necessary.  Local lawyers will provide free legal advice to those who cannot afford legal assistance. \nNote: This event is not eligible for MCLE credit. \n  \nSponsoring organizations: \n\nAlabama State Bar Volunteer Lawyers Program\nTuscaloosa County Bar Association\nUniversity of Alabama School of Law\nLegal Services Alabama
URL:https://alabar.lbcdev.com/event/tuscaloosa-legal-assistance-clinic/
LOCATION:Tuscaloosa Public Library Main Branch\, 1801 Jack Warner Parkway NE\, Tuscaloosa\, AL\, 35401\, United States
CATEGORIES:Pro Bono Month,Public Events
ORGANIZER;CN="Alabama State Bar VLP":MAILTO:linda.lund@alabar.org
END:VEVENT
BEGIN:VEVENT
DTSTART;TZID=America/Chicago:20141023T140000
DTEND;TZID=America/Chicago:20141023T163000
DTSTAMP:20260424T211743
CREATED:20141003T161928Z
LAST-MODIFIED:20141003T161928Z
UID:5164-1414072800-1414081800@alabar.lbcdev.com
SUMMARY:Community of Hope Free Legal Clinic
DESCRIPTION:Get answers to your legal questions at the Community of Hope Counsel and Advice Clinic. Local lawyers will provide free legal advice to those who cannot afford legal assistance.
URL:https://alabar.lbcdev.com/event/community-hope-free-legal-clinic/
LOCATION:Community of Hope (Old Walmart Building)\, 2403 South Blvd\, Montgomery\, AL\, 36111\, United States
CATEGORIES:Pro Bono Month
END:VEVENT
BEGIN:VEVENT
DTSTART;TZID=America/Chicago:20141023T083000
DTEND;TZID=America/Chicago:20141023T120000
DTSTAMP:20260424T211743
CREATED:20140911T191033Z
LAST-MODIFIED:20140911T191033Z
UID:4768-1414053000-1414065600@alabar.lbcdev.com
SUMMARY:District Court Help Desk
DESCRIPTION:Free legal clinic for eligible clients to receive help with civil issues such as evictions\, garnishments and probate issues.  This clinic is held every Monday and Thursday in October in conjunction with Pro Bono Month. \nIf you are a lawyer interested in volunteering for this event\, please contact Nancy Yarbrough via email at nyarbrough@vlpbirmingham.org. \nNote: CLE is not available for this event. \n  \nSponsoring organization: \n\nBirmingham Bar Volunteer Lawyers Program
URL:https://alabar.lbcdev.com/event/district-court-help-desk-7/
LOCATION:Jefferson County Courthouse (Fifth Floor)\, 716 Richard Arrington Jr. Blvd N.\, Birmingham\, AL\, United States
CATEGORIES:Pro Bono Month,Public Events
END:VEVENT
BEGIN:VEVENT
DTSTART;TZID=America/Chicago:20141022T083000
DTEND;TZID=America/Chicago:20141022T120000
DTSTAMP:20260424T211743
CREATED:20140911T184708Z
LAST-MODIFIED:20140911T184708Z
UID:4759-1413966600-1413979200@alabar.lbcdev.com
SUMMARY:Domestic Relations Help Desk
DESCRIPTION:Free legal clinic for eligible clients to receive help with domestic relations and family law legal issues.  This clinic is held every Wednesday in October in conjunction with Pro Bono Month. \nIf you are a lawyer interested in volunteering for this event\, please contact Nancy Yarbrough via email at nyarbrough@vlpbirmingham.org. \nNote: CLE is not available for this event. \n  \nSponsoring organization: \n\nBirmingham Bar Volunteer Lawyers Program
URL:https://alabar.lbcdev.com/event/domestic-relations-help-desk-4/
LOCATION:Jefferson County Domestic Relations Courthouse (First Floor)\, 2124 7th Avenue N.\, Birmingham\, AL\, United States
CATEGORIES:Pro Bono Month,Public Events
END:VEVENT
BEGIN:VEVENT
DTSTART;TZID=America/Chicago:20141021T090000
DTEND;TZID=America/Chicago:20141021T150000
DTSTAMP:20260424T211743
CREATED:20140911T195826Z
LAST-MODIFIED:20140911T195826Z
UID:4786-1413882000-1413903600@alabar.lbcdev.com
SUMMARY:Wills for Heroes + Senior Citizen Clinic
DESCRIPTION:Free simple wills\, health care directives and powers of attorney for first responders and senior citizens of Jefferson County. \nMembers of the public can call the Cumberland Community Mediation Center at 205-726-4342 to schedule an appointment. \nNote: This event is not eligible for MCLE credit. \n  \nSponsoring organizations: \n\nCumberland School of Law\nBessemer Bar Association
URL:https://alabar.lbcdev.com/event/wills-heroes-senior-citizen-clinic/
LOCATION:Bessemer Courthouse\, 1851 2nd Avenue\, Bessemer\, AL\, 35020\, United States
CATEGORIES:Pro Bono Month,Public Events
ORGANIZER;CN="Cumberland School of Law":MAILTO:ccmc@samford.edu
END:VEVENT
END:VCALENDAR