BEGIN:VCALENDAR
VERSION:2.0
PRODID:-//Alabama State Bar - ECPv6.15.20//NONSGML v1.0//EN
CALSCALE:GREGORIAN
METHOD:PUBLISH
X-WR-CALNAME:Alabama State Bar
X-ORIGINAL-URL:https://alabar.lbcdev.com
X-WR-CALDESC:Events for Alabama State Bar
REFRESH-INTERVAL;VALUE=DURATION:PT1H
X-Robots-Tag:noindex
X-PUBLISHED-TTL:PT1H
BEGIN:VTIMEZONE
TZID:America/Chicago
BEGIN:DAYLIGHT
TZOFFSETFROM:-0600
TZOFFSETTO:-0500
TZNAME:CDT
DTSTART:20140309T080000
END:DAYLIGHT
BEGIN:STANDARD
TZOFFSETFROM:-0500
TZOFFSETTO:-0600
TZNAME:CST
DTSTART:20141102T070000
END:STANDARD
BEGIN:DAYLIGHT
TZOFFSETFROM:-0600
TZOFFSETTO:-0500
TZNAME:CDT
DTSTART:20150308T080000
END:DAYLIGHT
BEGIN:STANDARD
TZOFFSETFROM:-0500
TZOFFSETTO:-0600
TZNAME:CST
DTSTART:20151101T070000
END:STANDARD
BEGIN:DAYLIGHT
TZOFFSETFROM:-0600
TZOFFSETTO:-0500
TZNAME:CDT
DTSTART:20160313T080000
END:DAYLIGHT
BEGIN:STANDARD
TZOFFSETFROM:-0500
TZOFFSETTO:-0600
TZNAME:CST
DTSTART:20161106T070000
END:STANDARD
END:VTIMEZONE
BEGIN:VEVENT
DTSTART;TZID=America/Chicago:20150527T130000
DTEND;TZID=America/Chicago:20150527T140000
DTSTAMP:20260422T165234
CREATED:20150512T183307Z
LAST-MODIFIED:20150512T183307Z
UID:41678-1432731600-1432735200@alabar.lbcdev.com
SUMMARY:Free Webinar:  Intro to Legal Project Management for Solos & Small Firms
DESCRIPTION:The legal profession is currently undergoing significant change\, and the business model is transforming. Clients are pushing back against traditional law firm business practices\, and demanding greater efficiency in budgeting and case management. Mark Lassiter\, founder of Lex Projex™ explains why it’s so important to take the time to develop streamlined processes\, even in the midst of your busy practice. This program is sponsored by MyCase and MCLE credit HAS NOT been applied for.  Register here.
URL:https://alabar.lbcdev.com/event/free-webinar-intro-to-legal-project-management-for-solos-small-firms/
CATEGORIES:Practice Management,Public Events,Solo+Small Firm
END:VEVENT
BEGIN:VEVENT
DTSTART;TZID=America/Chicago:20150512T130000
DTEND;TZID=America/Chicago:20150512T140000
DTSTAMP:20260422T165234
CREATED:20150512T183154Z
LAST-MODIFIED:20150512T183154Z
UID:41681-1431435600-1431439200@alabar.lbcdev.com
SUMMARY:Free Webinar:  Top 10 Pitfalls of Law Firm Management
DESCRIPTION:Poor cash flow\, co-mingling client funds or inadequate paper trails are just few of the problems that plague most law firms. Yet many lawyers try to force the complex needs of their practice into generic tools for workflow and accounting – glossing over the specialized requirements of running a law practice. This can be a perilous – and painful path\, leaving your firm exposed to unacceptably high risks. Learn how you can do better.  This program is sponsored by ASB member benefit provider CosmoLex.  MCLE credit HAS NOT been applied for.  Register here.
URL:https://alabar.lbcdev.com/event/free-webinar-top-10-pitfalls-of-law-firm-management/
CATEGORIES:Practice Management,Public Events,Solo+Small Firm
END:VEVENT
BEGIN:VEVENT
DTSTART;TZID=America/Chicago:20150325T110000
DTEND;TZID=America/Chicago:20150325T233000
DTSTAMP:20260422T165234
CREATED:20150311T145404Z
LAST-MODIFIED:20150311T145404Z
UID:41006-1427281200-1427326200@alabar.lbcdev.com
SUMMARY:Free Webinar - Seven Cornerstones of Law Firm Cash Flow
DESCRIPTION:Member benefit provider CosmoLex offers a free online program to help lawyers improve cash flow using practice management software to automate key areas firms tend to ignore.  Live at 11:00 am on March 25th\, or receive a recording of the webinar by email the next day.  Register here. This program is not approved for MCLE credit.
URL:https://alabar.lbcdev.com/event/free-webinar-seven-cornerstones-of-law-firm-cash-flow/
CATEGORIES:Practice Management,Public Events
END:VEVENT
END:VCALENDAR