BEGIN:VCALENDAR
VERSION:2.0
PRODID:-//Alabama State Bar - ECPv6.15.20//NONSGML v1.0//EN
CALSCALE:GREGORIAN
METHOD:PUBLISH
X-WR-CALNAME:Alabama State Bar
X-ORIGINAL-URL:https://alabar.lbcdev.com
X-WR-CALDESC:Events for Alabama State Bar
REFRESH-INTERVAL;VALUE=DURATION:PT1H
X-Robots-Tag:noindex
X-PUBLISHED-TTL:PT1H
BEGIN:VTIMEZONE
TZID:America/Chicago
BEGIN:DAYLIGHT
TZOFFSETFROM:-0600
TZOFFSETTO:-0500
TZNAME:CDT
DTSTART:20140309T080000
END:DAYLIGHT
BEGIN:STANDARD
TZOFFSETFROM:-0500
TZOFFSETTO:-0600
TZNAME:CST
DTSTART:20141102T070000
END:STANDARD
BEGIN:DAYLIGHT
TZOFFSETFROM:-0600
TZOFFSETTO:-0500
TZNAME:CDT
DTSTART:20150308T080000
END:DAYLIGHT
BEGIN:STANDARD
TZOFFSETFROM:-0500
TZOFFSETTO:-0600
TZNAME:CST
DTSTART:20151101T070000
END:STANDARD
BEGIN:DAYLIGHT
TZOFFSETFROM:-0600
TZOFFSETTO:-0500
TZNAME:CDT
DTSTART:20160313T080000
END:DAYLIGHT
BEGIN:STANDARD
TZOFFSETFROM:-0500
TZOFFSETTO:-0600
TZNAME:CST
DTSTART:20161106T070000
END:STANDARD
END:VTIMEZONE
BEGIN:VEVENT
DTSTART;TZID=America/Chicago:20150501T183000
DTEND;TZID=America/Chicago:20150501T220000
DTSTAMP:20260423T005806
CREATED:20150424T211113Z
LAST-MODIFIED:20150424T211113Z
UID:41510-1430505000-1430517600@alabar.lbcdev.com
SUMMARY:Huntsville-Madison County Law Day Celebration
DESCRIPTION:More information is available on the Huntsville-Madison County Bar Association website.
URL:https://alabar.lbcdev.com/event/huntsville-madison-county-law-day-celebration/
LOCATION:Burritt Museum Baron Bluff\, 3101 Burritt Drive\, Huntsville\, AL\, United States
CATEGORIES:Law Day,Law Day
END:VEVENT
BEGIN:VEVENT
DTSTART;TZID=America/Chicago:20150430T103000
DTEND;TZID=America/Chicago:20150430T103000
DTSTAMP:20260423T005806
CREATED:20150227T174359Z
LAST-MODIFIED:20150227T174359Z
UID:40923-1430389800-1430389800@alabar.lbcdev.com
SUMMARY:Law Day Ceremony
DESCRIPTION:
URL:https://alabar.lbcdev.com/event/law-day-ceremony/
LOCATION:Alabama Supreme Court\, 300 Dexter Avenue\, Montgomery\, AL\, 36104\, United States
CATEGORIES:Law Day,Public Events
END:VEVENT
END:VCALENDAR