BEGIN:VCALENDAR
VERSION:2.0
PRODID:-//Alabama State Bar - ECPv6.15.20//NONSGML v1.0//EN
CALSCALE:GREGORIAN
METHOD:PUBLISH
X-WR-CALNAME:Alabama State Bar
X-ORIGINAL-URL:https://alabar.lbcdev.com
X-WR-CALDESC:Events for Alabama State Bar
REFRESH-INTERVAL;VALUE=DURATION:PT1H
X-Robots-Tag:noindex
X-PUBLISHED-TTL:PT1H
BEGIN:VTIMEZONE
TZID:America/Chicago
BEGIN:DAYLIGHT
TZOFFSETFROM:-0600
TZOFFSETTO:-0500
TZNAME:CDT
DTSTART:20210314T080000
END:DAYLIGHT
BEGIN:STANDARD
TZOFFSETFROM:-0500
TZOFFSETTO:-0600
TZNAME:CST
DTSTART:20211107T070000
END:STANDARD
BEGIN:DAYLIGHT
TZOFFSETFROM:-0600
TZOFFSETTO:-0500
TZNAME:CDT
DTSTART:20220313T080000
END:DAYLIGHT
BEGIN:STANDARD
TZOFFSETFROM:-0500
TZOFFSETTO:-0600
TZNAME:CST
DTSTART:20221106T070000
END:STANDARD
BEGIN:DAYLIGHT
TZOFFSETFROM:-0600
TZOFFSETTO:-0500
TZNAME:CDT
DTSTART:20230312T080000
END:DAYLIGHT
BEGIN:STANDARD
TZOFFSETFROM:-0500
TZOFFSETTO:-0600
TZNAME:CST
DTSTART:20231105T070000
END:STANDARD
END:VTIMEZONE
BEGIN:VEVENT
DTSTART;TZID=America/Chicago:20220928T120000
DTEND;TZID=America/Chicago:20220928T130000
DTSTAMP:20260422T054135
CREATED:20220822T193108Z
LAST-MODIFIED:20220822T193108Z
UID:64206-1664366400-1664370000@alabar.lbcdev.com
SUMMARY:14th Judicial Circuit Drive for Five
DESCRIPTION:
URL:https://alabar.lbcdev.com/event/14th-judicial-circuit-drive-for-five/
LOCATION:Los Reyes Grill\, 1841 2nd Ave.\, Jasper\, AL\, 35501\, United States
CATEGORIES:Drive for Five
END:VEVENT
BEGIN:VEVENT
DTSTART;TZID=America/Chicago:20220926T120000
DTEND;TZID=America/Chicago:20220926T130000
DTSTAMP:20260422T054135
CREATED:20220829T180053Z
LAST-MODIFIED:20220829T180053Z
UID:64245-1664193600-1664197200@alabar.lbcdev.com
SUMMARY:29th Judicial Circuit Drive for Five
DESCRIPTION:
URL:https://alabar.lbcdev.com/event/29th-judicial-circuit-drive-for-five/
LOCATION:Citizens Baptist Hospital Cafeteria\, 604 Stone Avenue\, Talladega
CATEGORIES:Drive for Five
END:VEVENT
END:VCALENDAR